BEGIN:VCALENDAR
PRODID:NingEventWidget-v1
VERSION:2.0
METHOD:PUBLISH
BEGIN:VTIMEZONE
TZID:Europe/London
X-LIC-LOCATION:Europe/London
BEGIN:DAYLIGHT
TZOFFSETFROM:+0000
TZOFFSETTO:+0100
TZNAME:BST
DTSTART:19700329T010000
RRULE:FREQ=YEARLY;BYMONTH=3;BYDAY=-1SU
END:DAYLIGHT
BEGIN:STANDARD
TZOFFSETFROM:+0100
TZOFFSETTO:+0000
TZNAME:GMT
DTSTART:19701025T020000
RRULE:FREQ=YEARLY;BYMONTH=10;BYDAY=-1SU
END:STANDARD
END:VTIMEZONE
BEGIN:VEVENT
UID:4626108:Event:8528
DTSTAMP:20260423T221333Z
SUMMARY:FREE BNI Cobham & Esher Open Evening, Cobham
DESCRIPTION:BNI Open Evening at the NY Bar & Grill\n\nWe are holding a
 n open evening on Monday 21st February at NY Bar & Grill - all NiS Mem
 bers and site visitors are welcome. It's a free event - and the fir
 st 50 guests get a free drink!\nCome along and meet us, and let's do s
 ome 'sociable networking'...\nMAP\n-----------------------------------
 -----\nBNI is the most successful and largest business referral organi
 sation in the world. If you operate a business in the Esher or Cobham 
 area, you are very welcome to join us for breakfast to see the benefit
 s for yourself.\nHowever, we only allow one member per profession or b
 usiness to join, so don't delay!\nOur philosophy is \"Givers Gain\" an
 d to succeed in BNI members must embrace that philosophy by helping to
  find referrals for the other members of their chapter.\n\nFor more in
 formation visit https://networkinginsurrey.co.uk/events/free-bni-cobha
 m-esher-open
DTSTART;TZID=Europe/London:20110221T180000
DTEND;TZID=Europe/London:20110221T200000
CATEGORIES:bni, esher, cobham, free
LOCATION:NY Bar & Grill, Cobham KT11 1HY
WEBSITE:http://www.bni-esher-cobham.co.uk/
URL:http://www.bni-esher-cobham.co.uk/
CONTACT:
ORGANIZER:Nigel Hall
ATTACH;FMTTYPE="image/jpeg":http://storage.ning.com/topology/rest/1.0/
 file/get/2591389511?profile=original
ATTENDEE;ROLE=REQ-PARTICIPANT;PARTSTAT=ACCEPTED;RSVP=TRUE;CN="Sandra C
 ollins":https://networkinginsurrey.co.uk/profile/SandraCollins
ATTENDEE;ROLE=REQ-PARTICIPANT;PARTSTAT=ACCEPTED;RSVP=TRUE;CN="Keith Gr
 over, NiS Founder":https://networkinginsurrey.co.uk/profile/KeithGrove
 r
END:VEVENT
END:VCALENDAR
