BEGIN:VCALENDAR
PRODID:NingEventWidget-v1
VERSION:2.0
METHOD:PUBLISH
BEGIN:VTIMEZONE
TZID:Europe/London
X-LIC-LOCATION:Europe/London
BEGIN:DAYLIGHT
TZOFFSETFROM:+0000
TZOFFSETTO:+0100
TZNAME:BST
DTSTART:19700329T010000
RRULE:FREQ=YEARLY;BYMONTH=3;BYDAY=-1SU
END:DAYLIGHT
BEGIN:STANDARD
TZOFFSETFROM:+0100
TZOFFSETTO:+0000
TZNAME:GMT
DTSTART:19701025T020000
RRULE:FREQ=YEARLY;BYMONTH=10;BYDAY=-1SU
END:STANDARD
END:VTIMEZONE
BEGIN:VEVENT
UID:4626108:Event:4460
DTSTAMP:20260425T120643Z
SUMMARY:FREE Best of Camberley Business Expo
DESCRIPTION:Best of Camberley Business ExpoThe best of Camberley and S
 urrey Chambers of Commerce are hosting a Business Expo designed to pro
 mote and advance the best independent businesses in and around Surrey 
 Heath.There will be over 60 companies demonstrating how they give top 
 service and performance to their existing clients and why you should u
 se them too! We will also have 8 speakers throughout the course of the
  day.This event is free to attend, however we will be offering you the
  chance to donate to Help for Heroes on your arrival.Network Breakfast
 \nSurrey Chambers of Commerce is hosting a pre-Expo Network Breakfast 
 commencing at 9am. All delegates are welcome to attend this compliment
 ary networking event which is a great prelude to the Expo. Please brin
 g plenty of business cards, warm smiles and handshakes! Exhibition spe
 akers list: 10.15 - 10.45John Fairley: JFP Strategic PlanningBusiness 
 Performance Training11.00 - 11.30Judy Campbell: Spear TravelsTravel Ag
 ent11.45 - 12.15Trix Wheeler: Mind Body CoachNLP, Hypnosis & Weight Lo
 ss12.30 - 13.00Steve Coburn: Project FiveIT & Computer Services13.15 -
  13.45Joseph Cruickshank: Random AnalysisCCTV & Security14.00 - 14.30N
 igel Cutts: Love at WorkAuthor & Business Mentor14.45 - 15.15June Hood
  - Brooks & PartnersEmployment Issues15.30 - 16.00Jim Smith: Shoppers 
 AnonMarket ResearchBOOK HERE Regater to attend free!\nBook your stand 
 now - only £175 + vat by calling NiS Member John Udal on 01344 874091
  or 07825 414432. Alternatively email camberley@thebestof.co.uk\n\nFor
  more information visit https://networkinginsurrey.co.uk/events/free-b
 est-of-camberley
DTSTART;TZID=Europe/London:20101021T090000
DTEND;TZID=Europe/London:20101021T160000
CATEGORIES:free, exhibition, camberley
LOCATION:Camberley Theatre GU15 3SY
WEBSITE:http://www.thebestof.co.uk/local/camberley/business-guide/feat
 ure/the-best-of-camberley-business-exhibition/82503
URL:http://www.thebestof.co.uk/local/camberley/business-guide/feature/
 the-best-of-camberley-business-exhibition/82503
CONTACT:01344 874091
ORGANIZER:John D Udal
ATTACH;FMTTYPE="image/jpeg":http://storage.ning.com/topology/rest/1.0/
 file/get/2591386814?profile=original
ATTENDEE;ROLE=REQ-PARTICIPANT;PARTSTAT=ACCEPTED;RSVP=TRUE;CN="Keith Gr
 over, NiS Founder":https://networkinginsurrey.co.uk/profile/KeithGrove
 r
ATTENDEE;ROLE=REQ-PARTICIPANT;PARTSTAT=ACCEPTED;RSVP=TRUE;CN="John D. 
 Udal":https://networkinginsurrey.co.uk/profile/JohnDUdal
END:VEVENT
END:VCALENDAR
