BEGIN:VCALENDAR
PRODID:NingEventWidget-v1
VERSION:2.0
METHOD:PUBLISH
BEGIN:VTIMEZONE
TZID:Europe/London
X-LIC-LOCATION:Europe/London
BEGIN:DAYLIGHT
TZOFFSETFROM:+0000
TZOFFSETTO:+0100
TZNAME:BST
DTSTART:19700329T010000
RRULE:FREQ=YEARLY;BYMONTH=3;BYDAY=-1SU
END:DAYLIGHT
BEGIN:STANDARD
TZOFFSETFROM:+0100
TZOFFSETTO:+0000
TZNAME:GMT
DTSTART:19701025T020000
RRULE:FREQ=YEARLY;BYMONTH=10;BYDAY=-1SU
END:STANDARD
END:VTIMEZONE
BEGIN:VEVENT
UID:4626108:Event:14712
DTSTAMP:20260423T021533Z
SUMMARY:FREE 'Be Lucky' Friday 13th Afternoon Netwalk, Surrey Hills
DESCRIPTION:Friday 13th 'Be Lucky' Netwalk in the Surrey Hills\nThe 'i
 nter-network' Netwalk, where 'Serendipity Rules!', with Big Strides 4 
 Business, Ecademy, The Bookwright, Fresh Air Fix, and Networking in Su
 rrey...\nSpring is here - and what better way to celebrate this Frida
 y 13th than donning your walking shoes and joining us in the Surrey Hi
 lls for an informal Netwalk in the fresh air, where anything could hap
 pen?\nPart of the magic of Networking (and Netwalking!) is making new
  chance connections with people at events, who may turn out to be your
  new business partners, customers, suppliers and friends. Come along, 
 have a great afternoon out and 'Be Lucky' on Friday 13th...\n\nAs Netw
 alking enthusiasts, we thought it would be a great idea for us all to 
 invite our networking connections along and make a fantastic afternoon
  of it. So, come one, come all - bring your partner, your own contacts
 , and of course, chlldren and pets are welcome, so bring the dogs t
 oo (however, if your bring-along pet's a horse, that might be conside
 red as cheating a bit)!\nThe walk will leave the Hurtwood at 2.30 pro
 mpt and last for around an hour and a half's round trip. We'll be ther
 e from about 12.00 having lunch, and afterwards for a drink, so please
  join us for more networking at either or both of those sessions too..
 .\nCLICK HERE for more details and to REGISTER \nIt's free to come a
 long - but please register so we can make the necessary arrangements (
 and let the Hurtwood Inn have an idea of numbers to expect in the bar 
 before and after the walk).\nMAP\n------------------------------------
 -----------------\nNetwalks are magical! You'll enjoy a gentle ramble 
 through beautiful scenery with a group of like-minded local business p
 eople. During the couple of hours of the Netwalk itself - and before 
 and after if you choose, in a lovely country pub - you get to network 
 with whomever you please, in a relaxed and sociable atmosphere.  \n\
 nFor more information visit https://networkinginsurrey.co.uk/events/fr
 ee-be-lucky-friday-13th
DTSTART;TZID=Europe/London:20110513T130000
DTEND;TZID=Europe/London:20110513T170000
CATEGORIES:free, netwalk, surrey_hills, afternoon
LOCATION:Hurtwood Inn Hotel GU5 9RR
WEBSITE:http://bigstrideswalks.spruz.com/events.htm?a=&act=view-event&
 id=FD5D605A-5402-4FD1-AA07-66A49EEC4590
URL:http://bigstrideswalks.spruz.com/events.htm?a=&act=view-event&id=F
 D5D605A-5402-4FD1-AA07-66A49EEC4590
CONTACT:
ORGANIZER:Jenny Littlejohn,  Penny Power,Tom Evans, Juliett Dyke & Kei
 th Grover
ATTACH;FMTTYPE="image/jpeg":http://storage.ning.com/topology/rest/1.0/
 file/get/2591392001?profile=original
ATTENDEE;ROLE=REQ-PARTICIPANT;PARTSTAT=ACCEPTED;RSVP=TRUE;CN="Mike Tur
 ner":https://networkinginsurrey.co.uk/profile/MikeTurner
ATTENDEE;ROLE=REQ-PARTICIPANT;PARTSTAT=ACCEPTED;RSVP=TRUE;CN="Peter We
 st, Graphic Designer":https://networkinginsurrey.co.uk/profile/PeterWe
 st
ATTENDEE;ROLE=REQ-PARTICIPANT;PARTSTAT=ACCEPTED;RSVP=TRUE;CN="Keith Gr
 over, NiS Founder":https://networkinginsurrey.co.uk/profile/KeithGrove
 r
ATTENDEE;ROLE=REQ-PARTICIPANT;PARTSTAT=ACCEPTED;RSVP=TRUE;CN="Tom Evan
 s":https://networkinginsurrey.co.uk/profile/TomEvans
ATTENDEE;ROLE=REQ-PARTICIPANT;PARTSTAT=TENTATIVE;RSVP=TRUE;CN="Sally B
 urrough":https://networkinginsurrey.co.uk/profile/SallyBurrough
END:VEVENT
END:VCALENDAR
