BEGIN:VCALENDAR
PRODID:NingEventWidget-v1
VERSION:2.0
METHOD:PUBLISH
BEGIN:VTIMEZONE
TZID:Europe/London
X-LIC-LOCATION:Europe/London
BEGIN:DAYLIGHT
TZOFFSETFROM:+0000
TZOFFSETTO:+0100
TZNAME:BST
DTSTART:19700329T010000
RRULE:FREQ=YEARLY;BYMONTH=3;BYDAY=-1SU
END:DAYLIGHT
BEGIN:STANDARD
TZOFFSETFROM:+0100
TZOFFSETTO:+0000
TZNAME:GMT
DTSTART:19701025T020000
RRULE:FREQ=YEARLY;BYMONTH=10;BYDAY=-1SU
END:STANDARD
END:VTIMEZONE
BEGIN:VEVENT
UID:4626108:Event:36607
DTSTAMP:20260421T150447Z
SUMMARY:FREE Self-Employment Day Workshop, Weybridge
DESCRIPTION:Learn the Basics of Self-Employment at The Ship\n\nUnderst
 anding the basics of self-employment –\nEstablish, Maintain and Grow
  your business:\n \n\nHave you been made redundant?\nAre you ready to
  start something new and different?\nWere you curious to understand wh
 at it takes but didn’t know who to ask?\nHave you recently set up yo
 ur own business and want to ensure success?\n\nInsightsResearch, a Mar
 ket Research & Business Consultancy, and Wolf Consultancy, who cater f
 or all your Business Finance Needs, join forces to offer an exclusive
  training package for entrepreneurs.\nDon’t miss this wonderful oppo
 rtunity and call today to secure your place and your personal special 
 offer package.\nWe offer expert advice, training and ongoing support. 
 Beat the recession and set up your own business!\nBenefit from the kno
 wledge and expertise of two specialists in their fields and take part 
 in their new course:\nFind out how to set up a business, what it take
 s to become a successful entrepreneur, and how to start, maintain and
  grow your business.\nCOST:  FREE to attend\nWhat's included:\n\nAcc
 ess to all course material\n6 hours expert training in small groups\nA
 ccess to a special offer business consultancy package (finance or mar
 keting based depending on your needs).\n\nCall us now to learn more an
 d to secure your place in this highly sought after overview course.\nD
 r Sabine Lohmann, InsightsResearch, tel 07711 934 331, email sabineloh
 mann@insightsresearch.eu\nSue Warwick, Wolf Consultancy, tel 01483 233
 745/07753 709618, email sue@wolfconsultancy.co.uk\n MAP\n﻿\n\nDIREC
 TIONS\nFree parking in The Ship's own car park\n\nFor more information
  visit https://networkinginsurrey.co.uk/events/free-basics-of-self-emp
 loyment
DTSTART;TZID=Europe/London:20111119T100000
DTEND;TZID=Europe/London:20111119T160000
CATEGORIES:workshop, free, weybridge
LOCATION:The Ship Hotel KT13 8BQ
WEBSITE:http://www.shiphotel.co.uk/
URL:http://www.shiphotel.co.uk/
CONTACT:+44 (0)1932 848364
ORGANIZER;CN="Dr Sabine Lohmann":https://networkinginsurrey.co.uk/prof
 ile/DrSabineLohmann
ATTACH;FMTTYPE="image/jpeg":http://storage.ning.com/topology/rest/1.0/
 file/get/2591397307?profile=original
ATTENDEE;ROLE=REQ-PARTICIPANT;PARTSTAT=ACCEPTED;RSVP=TRUE;CN="Dr Sabin
 e Lohmann":https://networkinginsurrey.co.uk/profile/DrSabineLohmann
END:VEVENT
END:VCALENDAR
