BEGIN:VCALENDAR
PRODID:NingEventWidget-v1
VERSION:2.0
METHOD:PUBLISH
BEGIN:VTIMEZONE
TZID:Europe/London
X-LIC-LOCATION:Europe/London
BEGIN:DAYLIGHT
TZOFFSETFROM:+0000
TZOFFSETTO:+0100
TZNAME:BST
DTSTART:19700329T010000
RRULE:FREQ=YEARLY;BYMONTH=3;BYDAY=-1SU
END:DAYLIGHT
BEGIN:STANDARD
TZOFFSETFROM:+0100
TZOFFSETTO:+0000
TZNAME:GMT
DTSTART:19701025T020000
RRULE:FREQ=YEARLY;BYMONTH=10;BYDAY=-1SU
END:STANDARD
END:VTIMEZONE
BEGIN:VEVENT
UID:4626108:Event:530334
DTSTAMP:20260421T045748Z
SUMMARY:FREE Athena Network Petersfield Lunchtime Online
DESCRIPTION:The Athena Network: Petersfield Group - Guest Speaker Caro
 line Sedgwick\r\n\r\nYou're welcome to visit us at our monthly busines
 s networking meeting, with like-minded businesswomen, entrepreneurs, a
 nd executives. We are a fabulous group of women from a wide range of i
 ndustry sectors, who are passionate about their business and who are l
 ooking to connect with and build professional relationships with other
  local businesswomen.\r\nNot just a networking group, The Athena Netwo
 rk has three aims:\r\n\r\nto create strategic connections/ collaborati
 ons\r\nto deliver and develop business skills through our business tal
 ks and workshops\r\nto inspire, motivate and support the women in our 
 network\r\n\r\nAbout Athena Meetings\r\nAthena meetings are structured
 , interactive, informative, and professional whilst being fun and rela
 xed, providing the perfect combination for strong business partnership
 s. We aim to create a vibrant, thriving, and dynamic community of wome
 n entrepreneurs and executives who collaborate and connect with like-m
 inded women.\r\nOur meetings start at 12pm with \"open Zoom Room netwo
 rking\" followed by a structured meeting until 2pm. You'll have the op
 portunity to present a 60-second \"pitch\" for your business so that w
 e know who to connect you with and how to support you. We also have a 
 different Business Development Training speaker each month.\r\nThis mo
 nth our Business Development Training speaker will be:\r\nCaroline Sed
 gwick from Caroline Sedgwick Tax and Accountancy\r\nBooking your Pla
 ce\r\nVisitors are welcome, but booking is essential. We operate a one
  slot per profession policy, so please ensure you provide your profess
 ion details with your booking. If you would like to check to see if yo
 ur profession isn't locked out before booking, please feel free to con
 tact me directly.\r\nSPECIAL OFFER: For our Petersfield Group meeting
  this November, we would like to offer you the opportunity to visit fo
 r FREE and experience one of our monthly business networking meeting
 s.\r\nCOST: £0\r\nBOOKING: Please CLICK HERE to book your place\r\n-
 ---------------------------------------------------------\r\nTo find o
 ut more about Athena, please:\r\n\r\ncall me on 07501 124113\r\nemail:
  doris.holleufer@theathenanetwork.com\r\ntake a look at our website\r
 \nfind us on Facebook\r\n\n\nFor more information visit https://netwo
 rkinginsurrey.co.uk/events/free-athena-network-petersfield-lunchtime-o
 nline
DTSTART;TZID=Europe/London:20211116T120000
DTEND;TZID=Europe/London:20211116T140000
CATEGORIES:virtual, networking
LOCATION:Petersfield
WEBSITE:http://www.theathenanetwork.co.uk/dorisholleufer
URL:http://www.theathenanetwork.co.uk/dorisholleufer
CONTACT:07501 124113
ORGANIZER;CN="Doris Holleufer":https://networkinginsurrey.co.uk/profil
 e/DorisHolleufer88
ATTACH;FMTTYPE="image/jpeg":https://storage.ning.com/topology/rest/1.0
 /file/get/9630435497?profile=original
ATTENDEE;ROLE=REQ-PARTICIPANT;PARTSTAT=ACCEPTED;RSVP=TRUE;CN="Doris Ho
 lleufer":https://networkinginsurrey.co.uk/profile/DorisHolleufer88
END:VEVENT
END:VCALENDAR
