BEGIN:VCALENDAR
PRODID:NingEventWidget-v1
VERSION:2.0
METHOD:PUBLISH
BEGIN:VTIMEZONE
TZID:Europe/London
X-LIC-LOCATION:Europe/London
BEGIN:DAYLIGHT
TZOFFSETFROM:+0000
TZOFFSETTO:+0100
TZNAME:BST
DTSTART:19700329T010000
RRULE:FREQ=YEARLY;BYMONTH=3;BYDAY=-1SU
END:DAYLIGHT
BEGIN:STANDARD
TZOFFSETFROM:+0100
TZOFFSETTO:+0000
TZNAME:GMT
DTSTART:19701025T020000
RRULE:FREQ=YEARLY;BYMONTH=10;BYDAY=-1SU
END:STANDARD
END:VTIMEZONE
BEGIN:VEVENT
UID:4626108:Event:86992
DTSTAMP:20260424T103743Z
SUMMARY:FREE Angel Business Club Information Evening
DESCRIPTION:\nAn opportunity to meet and engage with the Management of
  2 of these companies.\nHear how our Members are enjoying returns of 2
 0%+ on their small regular investments - then make up your own mind (w
 ith no pressure or sales talk!) if you would like to find out how you 
 could join them.\nCOST: FREE (buy your own drinks at the bar) \nFRE
 E Angel Business Club Evening at The Fairmile\n\nDiscover how to be a 
 shareholder in innovative companies that most people would not normall
 y be able to access. This is your opportunity to meet and engage with
  the Management of 2 of these companies.\nHear how our Members are enj
 oying returns of 20%+ on their small regular investments - then make u
 p your own mind (with no pressure or sales talk!) if you would like to
  find out how you could join them.\nCOST: FREE (buy your own drinks 
 at the bar) \nBOOKING:  To register to attend please CLICK HERE -
  or just turn up on the night\nMAP\nAmple free parking\n \n\nFor more
  information visit https://networkinginsurrey.co.uk/events/free-angel-
 business-club-information-evening
DTSTART;TZID=Europe/London:20170425T190000
DTEND;TZID=Europe/London:20170425T210000
CATEGORIES:free, investment, information, event
LOCATION:Fairmile pub
WEBSITE:
URL:
CONTACT:07804 693122
ORGANIZER:Soraya Anderson  Tessa Hood  Gill Sepe
ATTACH;FMTTYPE="image/jpeg":http://storage.ning.com/topology/rest/1.0/
 file/get/2591461594?profile=original
ATTENDEE;ROLE=REQ-PARTICIPANT;PARTSTAT=ACCEPTED;RSVP=TRUE;CN="Derek Wi
 lliamson":https://networkinginsurrey.co.uk/profile/DerekWilliamson
ATTENDEE;ROLE=REQ-PARTICIPANT;PARTSTAT=ACCEPTED;RSVP=TRUE;CN="Soraya A
 nderson":https://networkinginsurrey.co.uk/profile/SorayaAnderson
END:VEVENT
END:VCALENDAR
