BEGIN:VCALENDAR
PRODID:NingEventWidget-v1
VERSION:2.0
METHOD:PUBLISH
BEGIN:VTIMEZONE
TZID:Europe/London
X-LIC-LOCATION:Europe/London
BEGIN:DAYLIGHT
TZOFFSETFROM:+0000
TZOFFSETTO:+0100
TZNAME:BST
DTSTART:19700329T010000
RRULE:FREQ=YEARLY;BYMONTH=3;BYDAY=-1SU
END:DAYLIGHT
BEGIN:STANDARD
TZOFFSETFROM:+0100
TZOFFSETTO:+0000
TZNAME:GMT
DTSTART:19701025T020000
RRULE:FREQ=YEARLY;BYMONTH=10;BYDAY=-1SU
END:STANDARD
END:VTIMEZONE
BEGIN:VEVENT
UID:4626108:Event:96143
DTSTAMP:20260422T173912Z
SUMMARY:FREE An Evening With Newable Business Exchange, Epsom
DESCRIPTION:An Evening With...thebestof Epsom & Ewell and Newable Busi
 ness Exchange\r\n\r\nHello Networkers!\r\nMake sure you don't miss out
  on this FREE networking event - Book your complimentary ticket now! J
 oin us for our much loved round table networking! \r\n\r\nJoin Newable
  Business Exchange in Epsom for An Evening With Networking on 7th Marc
 h 2018 for round table networking.\r\nWhen: Wednesday 7th March 2018 5
 .30pm – 8pm\r\nHeld at: Newable Business Exchange, 4 - 6 High Street
 , Epsom, KT19 8AD\r\nParking: Plenty of parking available in the Ashle
 y Centre Car Park or Behind Epsom Odeon Cinema.\r\nRunning from 5.30pm
  – 8pm, the evening will give you the opportunity to round table net
 work with other local business owners. Refreshments will be served thr
 oughout the evening.\r\nWe have a limited amount of tickets so make su
 re you book your complimentary place now!\r\nThe event is jointly host
 ed by thebestof Epsom and Newable Business Exchange.\r\nCOST: FREE to 
 attend (but booking is essential for catering purposes please!)\r\nBOO
 KING: REGISTER NOW FOR THIS FREE EVENT\r\nMAP\r\nParking: Plenty of p
 arking available in the Ashley Centre Car Park or Behind Epsom Odeon C
 inema\r\n\n\nFor more information visit https://networkinginsurrey.co.
 uk/events/free-an-evening-with-newable-business-exchange-epsom
DTSTART;TZID=Europe/London:20180307T173000
DTEND;TZID=Europe/London:20180307T200000
CATEGORIES:business, networking
LOCATION:Newable Business Exchange KT19 8AD
WEBSITE:https://www.eventbrite.co.uk/e/an-evening-with-newable-busines
 s-exchange-tickets-43124201648?aff=es2
URL:https://www.eventbrite.co.uk/e/an-evening-with-newable-business-ex
 change-tickets-43124201648?aff=es2
CONTACT:01737 350079
ORGANIZER;CN="Nigel Stickland":https://networkinginsurrey.co.uk/profil
 e/NigelStickland
ATTACH;FMTTYPE="image/jpeg":http://storage.ning.com/topology/rest/1.0/
 file/get/2591470390?profile=original
ATTENDEE;ROLE=REQ-PARTICIPANT;PARTSTAT=ACCEPTED;RSVP=TRUE;CN="Lord Ham
 ilton of Glencoe":https://networkinginsurrey.co.uk/profile/BrianIanHam
 ilton
ATTENDEE;ROLE=REQ-PARTICIPANT;PARTSTAT=ACCEPTED;RSVP=TRUE;CN="Nigel St
 ickland":https://networkinginsurrey.co.uk/profile/NigelStickland
END:VEVENT
END:VCALENDAR
