BEGIN:VCALENDAR
PRODID:NingEventWidget-v1
VERSION:2.0
METHOD:PUBLISH
BEGIN:VTIMEZONE
TZID:Europe/London
X-LIC-LOCATION:Europe/London
BEGIN:DAYLIGHT
TZOFFSETFROM:+0000
TZOFFSETTO:+0100
TZNAME:BST
DTSTART:19700329T010000
RRULE:FREQ=YEARLY;BYMONTH=3;BYDAY=-1SU
END:DAYLIGHT
BEGIN:STANDARD
TZOFFSETFROM:+0100
TZOFFSETTO:+0000
TZNAME:GMT
DTSTART:19701025T020000
RRULE:FREQ=YEARLY;BYMONTH=10;BYDAY=-1SU
END:STANDARD
END:VTIMEZONE
BEGIN:VEVENT
UID:4626108:Event:66032
DTSTAMP:20260419T232335Z
SUMMARY:FREE Alternative Board Breakfast Session, Crawley
DESCRIPTION:Free Taster Session at Basepoint Crawley\nWould you welcom
 e the chance to use the experience of up to 8 fellow business owners t
 o help you improve your business decisions?\nThe Alternative Board exi
 sts to help business owners align their business vision with their per
 sonal vision. It exists to provide owners / CEOswith the power to ensu
 re that their businesses will deliver what they want out of life.  At 
 TAB, we believe collective wisdom brings strategic advantage; accou
 ntability hastens individual and business success; drive and creativ
 ity engender greater possibilities and clarity of advice eliminates
  fear of change.\nAt TAB Board meetings you will receive:\n\nPractical
 , strategic advice from fellow board members\nProven, actionable strat
 egies, rather than theories\nConfidence in the expert advice from peop
 le who don’t have a vested interest in your business\nImplementation
  strategies you will be held accountable to achieve\nPeace of mind kno
 wing you’re not alone in resolving your challenges and embracing new
  opportunities\n\nSample a little of what we have to offer...  Come a
 long to a free taster session.\nCOST: FREE - but booking is essential 
 please\nBOOKING: To book your free place please email Clare cchaney@t
 healternativeboard.co.uk or call 07973 512050 to find out more...\nM
 AP\n\nFor more information visit https://networkinginsurrey.co.uk/even
 ts/free-alternative-board-breakfast-session-crawley
DTSTART;TZID=Europe/London:20140429T080000
DTEND;TZID=Europe/London:20140429T100000
CATEGORIES:business, growth, breakfast, crawley, free
LOCATION:Basepoint Business Centre
WEBSITE:http://www.kingstonsmith.co.uk/contact-us/redhill
URL:http://www.kingstonsmith.co.uk/contact-us/redhill
CONTACT:07973 512050
ORGANIZER:Clare Chaney
ATTACH;FMTTYPE="image/jpeg":http://storage.ning.com/topology/rest/1.0/
 file/get/2591456875?profile=original
ATTENDEE;ROLE=REQ-PARTICIPANT;PARTSTAT=ACCEPTED;RSVP=TRUE;CN="Keith Gr
 over, NiS Founder":https://networkinginsurrey.co.uk/profile/KeithGrove
 r
END:VEVENT
END:VCALENDAR
