BEGIN:VCALENDAR
PRODID:NingEventWidget-v1
VERSION:2.0
METHOD:PUBLISH
BEGIN:VTIMEZONE
TZID:Europe/London
X-LIC-LOCATION:Europe/London
BEGIN:DAYLIGHT
TZOFFSETFROM:+0000
TZOFFSETTO:+0100
TZNAME:BST
DTSTART:19700329T010000
RRULE:FREQ=YEARLY;BYMONTH=3;BYDAY=-1SU
END:DAYLIGHT
BEGIN:STANDARD
TZOFFSETFROM:+0100
TZOFFSETTO:+0000
TZNAME:GMT
DTSTART:19701025T020000
RRULE:FREQ=YEARLY;BYMONTH=10;BYDAY=-1SU
END:STANDARD
END:VTIMEZONE
BEGIN:VEVENT
UID:4626108:Event:68252
DTSTAMP:20260419T160713Z
SUMMARY:FREE Afternoon Webinar on 'Social Selling'
DESCRIPTION:'Social Selling' Using LinkedIn, Email & Social Media (...
 and more!)\nPresented byÂ Mike Clark, MD, Really Connect - Social Sell
 ing StrategistsÂ \nWith\n\n\nTimothy Hughes, EMEA Sales Director, Orac
 le - Social Selling Evangelist\nToday (at 16:00BST, 11:00EST) Timothy 
 Hughes â€“ Oracleâ€™s UK Business Development Director â€“ will be deb
 unking the myths surrounding Social Selling.\n\nWe know thereâ€™s a to
 n of interest in this topic, because so far more than 1,000 people hav
 e registered to attend live.\nHere are just some of the questions weâ€
 ™ll be covering:\n\nSocial Selling in a B2B environment; reality or ju
 st buzz?\nIs Social Selling different from Branding and if yes what ar
 e the differences?\nDoes Social Selling work for any type of business 
 or is it just for technology companies?\nIs there a different approach
  with Social Selling to existing customers, ex-customers and new prosp
 ects?\nWhat is the most efficient way to Implement Social Selling in y
 our daily sales activities?\nHow can Commercial Directors benefit from
  Social Selling?\nHow can I easily reach a target group if LinkedIn do
 esn't provide the search categories I need?\nWhich tools do you recomm
 end to implement Social Selling Strategies?Â  How much time should you
  spend on Social Media?\nHow does one safely implement Social Selling 
 within the heavily regulated Financial Services industry?\nWhat exactl
 y sets Social Selling apart from other marketing strategies?\n\nGet th
 e answers by telling us youâ€™re interested here.\nCOST : FREE to atte
 nd for registered participants\nBOOKING: Please CLICK HEREÂ to claim y
 our free place\n\n\n\nFor more information visit https://networkingins
 urrey.co.uk/events/free-afternoon-webinar-on-social-selling
DTSTART;TZID=Europe/London:20140915T160000
DTEND;TZID=Europe/London:20140915T170000
CATEGORIES:free, webinar, social_selling
LOCATION:Wherever you are - office, home (Starbucks?)
WEBSITE:https://rippleeffect.infusionsoft.com/app/linkClick/17517/7985
 532211f43424/1428427/0ce5dc14ccdf82a4
URL:https://rippleeffect.infusionsoft.com/app/linkClick/17517/79855322
 11f43424/1428427/0ce5dc14ccdf82a4
CONTACT:
ORGANIZER:Mike Clark, Really Connect
ATTACH;FMTTYPE="image/jpeg":http://storage.ning.com/topology/rest/1.0/
 file/get/2591403677?profile=original
ATTENDEE;ROLE=REQ-PARTICIPANT;PARTSTAT=ACCEPTED;RSVP=TRUE;CN="Jane Har
 dy":https://networkinginsurrey.co.uk/profile/JaneHardy
ATTENDEE;ROLE=REQ-PARTICIPANT;PARTSTAT=ACCEPTED;RSVP=TRUE;CN="Sheevawn
  Hill":https://networkinginsurrey.co.uk/profile/SheevawnHill
ATTENDEE;ROLE=REQ-PARTICIPANT;PARTSTAT=ACCEPTED;RSVP=TRUE;CN="Avril Jo
 nes LRPS":https://networkinginsurrey.co.uk/profile/AvrilJones
ATTENDEE;ROLE=REQ-PARTICIPANT;PARTSTAT=ACCEPTED;RSVP=TRUE;CN="Meike La
 wrence":https://networkinginsurrey.co.uk/profile/MeikeLawrence
ATTENDEE;ROLE=REQ-PARTICIPANT;PARTSTAT=ACCEPTED;RSVP=TRUE;CN="Keith Gr
 over, NiS Founder":https://networkinginsurrey.co.uk/profile/KeithGrove
 r
ATTENDEE;ROLE=REQ-PARTICIPANT;PARTSTAT=TENTATIVE;RSVP=TRUE;CN="Marina 
 Roberts":https://networkinginsurrey.co.uk/profile/MarinaRoberts
END:VEVENT
END:VCALENDAR
