BEGIN:VCALENDAR
PRODID:NingEventWidget-v1
VERSION:2.0
METHOD:PUBLISH
BEGIN:VTIMEZONE
TZID:Europe/London
X-LIC-LOCATION:Europe/London
BEGIN:DAYLIGHT
TZOFFSETFROM:+0000
TZOFFSETTO:+0100
TZNAME:BST
DTSTART:19700329T010000
RRULE:FREQ=YEARLY;BYMONTH=3;BYDAY=-1SU
END:DAYLIGHT
BEGIN:STANDARD
TZOFFSETFROM:+0100
TZOFFSETTO:+0000
TZNAME:GMT
DTSTART:19701025T020000
RRULE:FREQ=YEARLY;BYMONTH=10;BYDAY=-1SU
END:STANDARD
END:VTIMEZONE
BEGIN:VEVENT
UID:4626108:Event:428214
DTSTAMP:20260421T131212Z
SUMMARY:FREE: Afternoon 30-Minute LinkedIn Clinic
DESCRIPTION:Free Learn2Love LinkedIn Session with Keith - all welcome!
 \r\n\r\n\r\nThis free knowledge-sharing half-hour session is for newbi
 es and experienced users alike - you are very welcome to join us. Eve
 ry week is different - so come back for more, as often as you like!\r\
 nLinkedIn is an essential business platform, helping you to find grea
 t customers, suppliers and collaborators. \r\nThis half-hour Zoom aro
 und LinkedIn will look at making the most of the free platform, and an
 swer any questions attendees raise.\r\nEach session will have a Topic 
 to start us off - but be warned, we often end up going 'off-piste'! To
 day it's \r\nShould you Accept or Ignore Invitations to Connect on Li
 nkedIn? (Answer: Neither! - and what to do instead...)\r\nOur Zoom s
 ession may be recorded & posted on social media to be available for ot
 hers to view it. By joining this event and participating you agree to 
 this.\r\nCOST: FREE\r\nBOOKING: Please CLICK HERE to book your free
  place \r\n(If this event shows SOLD OUT please email keithgrover@net
 workinginsurrey,co.uk  to be waitlisted)\r\n------------------------
 ----------------------------\r\nFor the full 'Learn2Love LinkedIn' exp
 erience, check out my 2-hour Workshop and Course Combo here...\r\n\n\n
 For more information visit https://networkinginsurrey.co.uk/events/fre
 e-afternoon-30-minute-linkedin-clinic-5
DTSTART;TZID=Europe/London:20201021T140000
DTEND;TZID=Europe/London:20201021T143000
CATEGORIES:training, online, networking
LOCATION:Online only
WEBSITE:
URL:
CONTACT:
ORGANIZER;CN="Keith Grover, NiS Founder":https://networkinginsurrey.co
 .uk/profile/KeithGrover
ATTACH;FMTTYPE="image/jpeg":https://storage.ning.com/topology/rest/1.0
 /file/get/7941009661?profile=original
ATTENDEE;ROLE=REQ-PARTICIPANT;PARTSTAT=ACCEPTED;RSVP=TRUE;CN="Keith Gr
 over, NiS Founder":https://networkinginsurrey.co.uk/profile/KeithGrove
 r
ATTENDEE;ROLE=REQ-PARTICIPANT;PARTSTAT=TENTATIVE;RSVP=TRUE;CN="Lord Ha
 milton of Glencoe":https://networkinginsurrey.co.uk/profile/BrianIanHa
 milton
END:VEVENT
END:VCALENDAR
