BEGIN:VCALENDAR
PRODID:NingEventWidget-v1
VERSION:2.0
METHOD:PUBLISH
BEGIN:VTIMEZONE
TZID:Europe/London
X-LIC-LOCATION:Europe/London
BEGIN:DAYLIGHT
TZOFFSETFROM:+0000
TZOFFSETTO:+0100
TZNAME:BST
DTSTART:19700329T010000
RRULE:FREQ=YEARLY;BYMONTH=3;BYDAY=-1SU
END:DAYLIGHT
BEGIN:STANDARD
TZOFFSETFROM:+0100
TZOFFSETTO:+0000
TZNAME:GMT
DTSTART:19701025T020000
RRULE:FREQ=YEARLY;BYMONTH=10;BYDAY=-1SU
END:STANDARD
END:VTIMEZONE
BEGIN:VEVENT
UID:4626108:Event:4237
DTSTAMP:20260424T232024Z
SUMMARY:FREE Access Business Expo, Twickenham
DESCRIPTION:Access Business Expo at Twickenham\n\nCome and meet other 
 business professionals in your area to discuss new ideas, products and
  services: Generate new business leads; Build new relationships; Atten
 d FREE seminars and learn from the experts\nTake part in networking se
 ssions - starting with a FREE networkng breakfast at 7.30 am hosted by
  The Best of Richmond and NiS Member NickTaimitarha\nOpen 9.00am - 5.0
 0pm with free admission to the Exhibition and all Seminars.\nTwickenha
 m's Access Business Networking event is aimed at small businesses with
 in the Greater London area giving them the opportunity to create new c
 ontacts, develop ideas and generate new business. Attendees will be ab
 le to meet and greet new local businesses and promote their own compan
 ies throughout the day as well as having the chance to see key speaker
 s - Apprentice finalist Claire Young and rugby star Gareth Chilcott.\n
 There are over 70 exhibitors with special show offers and discounts av
 ailable throughout the day. For more information contact Nis Members S
 uzy Dee Holland and Gareth Morris on 07826 914242 or 0208 744 2849, or
  email smtwickenham@accessstorage.com\nCOST: FREE to attend\nBOOK HERE
  - register now\nMAP\nParking for visitors and exhibitors (after loadi
 ng/unloading) is in the Twickenham Stadium North car park, which is lo
 cated directly off Rugby Road and within 20 meters of the Access Self 
 Storage car park entrance.We are also only a ten minute walk from Twic
 kenham Train Station and High Street.\n\n\n\n\n\n\nExhibit from as lit
 tle as £250.00 +VAT - BOOK A STAND here***2m x 2m STAND DEAL Until th
 e 30th September - £275 + VAT (Including 1 FREE place to the Networki
 ng lunch with Gareth Chilcott & Claire Young). Normal price £500 +VAT
 ***\nFollow us on Linked-In: http://www.linkedin.com/groups?mostPopula
 r=&gid=3381763 Follow us on Twitter: http://twitter.com/accessexpo\n\n
 For more information visit https://networkinginsurrey.co.uk/events/fre
 e-access-business-expo
DTSTART;TZID=Europe/London:20101103T090000
DTEND;TZID=Europe/London:20101103T170000
CATEGORIES:exhibition, twickenham, free
LOCATION:Access Self Storage, Twickenham TW1 1DG
WEBSITE:http://www.accessbusinessexpo.co.uk/index.php
URL:http://www.accessbusinessexpo.co.uk/index.php
CONTACT:0208 744 2849
ORGANIZER:Stuart Hillman & Gareth Morris
ATTACH;FMTTYPE="image/jpeg":http://storage.ning.com/topology/rest/1.0/
 file/get/2591386480?profile=original
ATTENDEE;ROLE=REQ-PARTICIPANT;PARTSTAT=ACCEPTED;RSVP=TRUE;CN="Keith Gr
 over, NiS Founder":https://networkinginsurrey.co.uk/profile/KeithGrove
 r
END:VEVENT
END:VCALENDAR
