BEGIN:VCALENDAR
PRODID:NingEventWidget-v1
VERSION:2.0
METHOD:PUBLISH
BEGIN:VTIMEZONE
TZID:Europe/London
X-LIC-LOCATION:Europe/London
BEGIN:DAYLIGHT
TZOFFSETFROM:+0000
TZOFFSETTO:+0100
TZNAME:BST
DTSTART:19700329T010000
RRULE:FREQ=YEARLY;BYMONTH=3;BYDAY=-1SU
END:DAYLIGHT
BEGIN:STANDARD
TZOFFSETFROM:+0100
TZOFFSETTO:+0000
TZNAME:GMT
DTSTART:19701025T020000
RRULE:FREQ=YEARLY;BYMONTH=10;BYDAY=-1SU
END:STANDARD
END:VTIMEZONE
BEGIN:VEVENT
UID:4626108:Event:69924
DTSTAMP:20260422T184904Z
SUMMARY:FREE 6 Steps To A Better Business, Walton-on-Thames
DESCRIPTION:Please join us (FREE!) for 6 Steps To A Better Business\n\
 nLearn how to increase your profits by 61% During this seminar you wil
 l be given the chance to step out of your business and get focused. Yo
 u will walk away with concrete ideas on how to increase your business 
 profits, make your team more effective and get a grip on your time man
 agement. You will leave this practical seminar with a clearer directio
 n and new tools to achieve your goals faster.  We will be showing you
  strategies and proven techniques to enable you to spend more time wor
 king ON your business rather than working IN your business. A vita
 l skill in a growing business.\nCOST:  Free to attend - but please bo
 ok!\nBOOKING: Please CLICK HERE to book   \nMAP\nCar Parks at The H
 eart Shopping Centre (£3.50 for 4 hours pay on departure) or Ashley 
 Park Avenue (turn as for Homebase, but go straight on past the store
  car park entrance - £4 per day pay and display) \n\nFor more infor
 mation visit https://networkinginsurrey.co.uk/events/free-6-steps-to-a
 -better-business-walton-on-thames
DTSTART;TZID=Europe/London:20141205T093000
DTEND;TZID=Europe/London:20141205T123000
CATEGORIES:buiness, growth, workshop, walton_on_thames
LOCATION:The Digital Work Hub, KT12 1QA
WEBSITE:http://www.thedigitalworkhub.co.uk
URL:http://www.thedigitalworkhub.co.uk
CONTACT:01932 881282
ORGANIZER;CN="Lorraine Spagatner":https://networkinginsurrey.co.uk/pro
 file/LorraineSpagatner
ATTACH;FMTTYPE="image/jpeg":http://storage.ning.com/topology/rest/1.0/
 file/get/2591433625?profile=original
ATTENDEE;ROLE=REQ-PARTICIPANT;PARTSTAT=ACCEPTED;RSVP=TRUE;CN="Lorraine
  Spagatner":https://networkinginsurrey.co.uk/profile/LorraineSpagatner
END:VEVENT
END:VCALENDAR
