BEGIN:VCALENDAR
PRODID:NingEventWidget-v1
VERSION:2.0
METHOD:PUBLISH
BEGIN:VTIMEZONE
TZID:Europe/London
X-LIC-LOCATION:Europe/London
BEGIN:DAYLIGHT
TZOFFSETFROM:+0000
TZOFFSETTO:+0100
TZNAME:BST
DTSTART:19700329T010000
RRULE:FREQ=YEARLY;BYMONTH=3;BYDAY=-1SU
END:DAYLIGHT
BEGIN:STANDARD
TZOFFSETFROM:+0100
TZOFFSETTO:+0000
TZNAME:GMT
DTSTART:19701025T020000
RRULE:FREQ=YEARLY;BYMONTH=10;BYDAY=-1SU
END:STANDARD
END:VTIMEZONE
BEGIN:VEVENT
UID:4626108:Event:4494
DTSTAMP:20260425T131907Z
SUMMARY:Foxhills Networking Evening (plus Sculpture!), Chertsey
DESCRIPTION:Networking and Sculpture Evening at Foxhills\n\n\nLocated 
 in the clubhouse we will have a guest speaker Hazel Reeves who is an a
 ward winning sculptress.\nAlso, Hazel is giving 20 lucky guests the op
 portunity to participate in making their very own bust - the winner wi
 ll receive a special prize donated by the host - Foxhills.\nCOST: Foxh
 ills Members - FREE; Guests - £15 Paid by cash, card or cheque on the
  day.\nBOOK HERE:\nMAP & DIRECTIONS\nVENUE\n--------------------------
 -------------\nThis event is organised by NiS Member James Webster of 
 The Webster Partnership and by Foxhills Resort & Spa\n\nFor more infor
 mation visit https://networkinginsurrey.co.uk/events/foxhills-networki
 ng-evening
DTSTART;TZID=Europe/London:20101019T173000
DTEND;TZID=Europe/London:20101019T200000
CATEGORIES:evening, foxhills, chertsey, business_networking_surrey
LOCATION:Foxhills Resort & Spa, Ottershaw, Chertsey KT16 0EL
WEBSITE:http://www.foxhills.co.uk/events/
URL:http://www.foxhills.co.uk/events/
CONTACT:07824 807264
ORGANIZER:James Webster
ATTACH;FMTTYPE="image/jpeg":http://storage.ning.com/topology/rest/1.0/
 file/get/2591380300?profile=original
ATTENDEE;ROLE=REQ-PARTICIPANT;PARTSTAT=ACCEPTED;RSVP=TRUE;CN="Keith Gr
 over, NiS Founder":https://networkinginsurrey.co.uk/profile/KeithGrove
 r
END:VEVENT
END:VCALENDAR
