BEGIN:VCALENDAR
PRODID:NingEventWidget-v1
VERSION:2.0
METHOD:PUBLISH
BEGIN:VTIMEZONE
TZID:Europe/London
X-LIC-LOCATION:Europe/London
BEGIN:DAYLIGHT
TZOFFSETFROM:+0000
TZOFFSETTO:+0100
TZNAME:BST
DTSTART:19700329T010000
RRULE:FREQ=YEARLY;BYMONTH=3;BYDAY=-1SU
END:DAYLIGHT
BEGIN:STANDARD
TZOFFSETFROM:+0100
TZOFFSETTO:+0000
TZNAME:GMT
DTSTART:19701025T020000
RRULE:FREQ=YEARLY;BYMONTH=10;BYDAY=-1SU
END:STANDARD
END:VTIMEZONE
BEGIN:VEVENT
UID:4626108:Event:4499
DTSTAMP:20260424T064614Z
SUMMARY:Foxhills Networking Evening (plus Aerial Photos!), Chertsey
DESCRIPTION:Networking Evening at Foxhills\n\nJoin us for another fant
 astic evening of Foxhills networking, fine finger buffet and our speci
 al guest speaker - Geoff Chapman the aerial photographer. Come and see
  Foxhills from the skies and find out more about aerial photography an
 d video simulation.\n\nCOST: Foxhills Members - FREE; Guests - £15\nP
 aid on the day by cash, cheque or card.\nBOOK HERE\nMAP & DIRECTIONS\n
 VENUE\n---------------------------------------\nThis event is organise
 d by NiS Member James Webster of The Webster Partnership and by Foxhil
 ls Resort & Spa\n\nFor more information visit https://networkinginsurr
 ey.co.uk/events/foxhills-networking-evening-1
DTSTART;TZID=Europe/London:20101116T173000
DTEND;TZID=Europe/London:20101116T200000
CATEGORIES:evening, foxhills, chertsey, business_networking_surrey
LOCATION:Foxhills Resort & Spa, Ottershaw, Chertsey KT16 0EL
WEBSITE:http://www.websterpartnership.co.uk/event_calendar.php?e=37
URL:http://www.websterpartnership.co.uk/event_calendar.php?e=37
CONTACT:Ottershaw, Chertsey
ORGANIZER:James Webster
ATTACH;FMTTYPE="image/jpeg":http://storage.ning.com/topology/rest/1.0/
 file/get/2591380300?profile=original
ATTENDEE;ROLE=REQ-PARTICIPANT;PARTSTAT=ACCEPTED;RSVP=TRUE;CN="Keith Gr
 over, NiS Founder":https://networkinginsurrey.co.uk/profile/KeithGrove
 r
ATTENDEE;ROLE=REQ-PARTICIPANT;PARTSTAT=TENTATIVE;RSVP=TRUE;CN="Rosemar
 y Hemmett":https://networkinginsurrey.co.uk/profile/RosemaryHemmett
END:VEVENT
END:VCALENDAR
