BEGIN:VCALENDAR
PRODID:NingEventWidget-v1
VERSION:2.0
METHOD:PUBLISH
BEGIN:VTIMEZONE
TZID:Europe/London
X-LIC-LOCATION:Europe/London
BEGIN:DAYLIGHT
TZOFFSETFROM:+0000
TZOFFSETTO:+0100
TZNAME:BST
DTSTART:19700329T010000
RRULE:FREQ=YEARLY;BYMONTH=3;BYDAY=-1SU
END:DAYLIGHT
BEGIN:STANDARD
TZOFFSETFROM:+0100
TZOFFSETTO:+0000
TZNAME:GMT
DTSTART:19701025T020000
RRULE:FREQ=YEARLY;BYMONTH=10;BYDAY=-1SU
END:STANDARD
END:VTIMEZONE
BEGIN:VEVENT
UID:4626108:Event:883
DTSTAMP:20260425T232018Z
SUMMARY:Foxhills Business Networking Evening, Ottershaw, Chertsey
DESCRIPTION:\nSurrey Chambers of Commerce, Woking Chamber of Commerce 
 and Woking Asian Business Forum invite you to come and network at this
  evening reception. Talk to your local Chambers of Commerce and Asian 
 Business Forum about the support they offer to all local businesses fr
 om one-man bands and SME's to the larger corporates - there's somethin
 g for everyone. COST (including Finger Buffet & Arrival Drink):\n\nFox
 hills Members - FREE - BOOK HERE\nWoking Chamber Members - £15 - BOOK
  HERE\nSurrey Chamber Members - £15 - BOOK HERE\nNon-Members: £20 - 
 BOOK HERE\nMAP & DIRECTIONS\nVENUE\n\nFor more information visit https
 ://networkinginsurrey.co.uk/events/foxhills-business-networking
DTSTART;TZID=Europe/London:20100223T180000
DTEND;TZID=Europe/London:20100223T200000
CATEGORIES:evening, ottershaw, chertsey
LOCATION:Foxhills Resort & Spa, Ottershaw, Chertsey KT16 0EL
WEBSITE:http://www.foxhills.co.uk/
URL:http://www.foxhills.co.uk/
CONTACT:
ORGANIZER;CN="Keith Grover, NiS Founder":https://networkinginsurrey.co
 .uk/profile/KeithGrover
ATTACH;FMTTYPE="image/jpeg":http://storage.ning.com/topology/rest/1.0/
 file/get/2591376828?profile=original
ATTENDEE;ROLE=REQ-PARTICIPANT;PARTSTAT=ACCEPTED;RSVP=TRUE;CN="Keith Gr
 over, NiS Founder":https://networkinginsurrey.co.uk/profile/KeithGrove
 r
END:VEVENT
END:VCALENDAR
