BEGIN:VCALENDAR
PRODID:NingEventWidget-v1
VERSION:2.0
METHOD:PUBLISH
BEGIN:VTIMEZONE
TZID:Europe/London
X-LIC-LOCATION:Europe/London
BEGIN:DAYLIGHT
TZOFFSETFROM:+0000
TZOFFSETTO:+0100
TZNAME:BST
DTSTART:19700329T010000
RRULE:FREQ=YEARLY;BYMONTH=3;BYDAY=-1SU
END:DAYLIGHT
BEGIN:STANDARD
TZOFFSETFROM:+0100
TZOFFSETTO:+0000
TZNAME:GMT
DTSTART:19701025T020000
RRULE:FREQ=YEARLY;BYMONTH=10;BYDAY=-1SU
END:STANDARD
END:VTIMEZONE
BEGIN:VEVENT
UID:4626108:Event:1609
DTSTAMP:20260425T201933Z
SUMMARY:Foxhills Business & Lifestyle Evening, Ottershaw, Chertsey
DESCRIPTION:Foxhills Business & Lifestyle Evening\n\nPlease join us at
  Foxhills for another fantastic evening of networking, tasty food, and
  liquid refreshment!\nOur Speaker is NiS Member Tom Evans - The Bookwr
 ight - presenting \"How a Book Becomes the Best Business Card You Will
  Ever Have...\" Tom is an author, an author’s mentor and an e-publis
 her. Tom specialises in clearing both the psychological and physical b
 locks that prevent a prospective writer from being a published author.
  His business is called The Bookwright and web site is www.thebookwrig
 ht.com\nThe 3 main messages of Tom's entertaining presentation will be
  that:\n1. There is a book inside each one of us\n2. It’s actually e
 asy to get published nowadays\n3. Once you publish a book your world w
 ill never be the same again!\nCOST: Foxhills Members FREE Guests - £1
 5 including your arrival drink and the usual delicious finger buffet \
 nBOOK HERE\nMAP & DIRECTIONS\nVENUE\n---------------------------------
 ------\nThis event is organised by NiS Member James Webster of The Web
 ster Partnership and by Foxhills Resort & Spa\n\nFor more information 
 visit https://networkinginsurrey.co.uk/events/foxhills-business-lifest
 yle
DTSTART;TZID=Europe/London:20100413T173000
DTEND;TZID=Europe/London:20100413T200000
CATEGORIES:evening, foxhills, chertsey
LOCATION:Foxhills Resort & Spa, Ottershaw, Chertsey KT16 0EL
WEBSITE:http://www.foxhills.co.uk/
URL:http://www.foxhills.co.uk/
CONTACT:
ORGANIZER:James Webster
ATTACH;FMTTYPE="image/jpeg":http://storage.ning.com/topology/rest/1.0/
 file/get/2591376828?profile=original
ATTENDEE;ROLE=REQ-PARTICIPANT;PARTSTAT=ACCEPTED;RSVP=TRUE;CN="Derek Wi
 lliamson":https://networkinginsurrey.co.uk/profile/DerekWilliamson
ATTENDEE;ROLE=REQ-PARTICIPANT;PARTSTAT=TENTATIVE;RSVP=TRUE;CN="Heidi R
 ice":https://networkinginsurrey.co.uk/profile/HeidiRice
ATTENDEE;ROLE=REQ-PARTICIPANT;PARTSTAT=TENTATIVE;RSVP=TRUE;CN="Keith G
 rover, NiS Founder":https://networkinginsurrey.co.uk/profile/KeithGrov
 er
END:VEVENT
END:VCALENDAR
