BEGIN:VCALENDAR
PRODID:NingEventWidget-v1
VERSION:2.0
METHOD:PUBLISH
BEGIN:VTIMEZONE
TZID:Europe/London
X-LIC-LOCATION:Europe/London
BEGIN:DAYLIGHT
TZOFFSETFROM:+0000
TZOFFSETTO:+0100
TZNAME:BST
DTSTART:19700329T010000
RRULE:FREQ=YEARLY;BYMONTH=3;BYDAY=-1SU
END:DAYLIGHT
BEGIN:STANDARD
TZOFFSETFROM:+0100
TZOFFSETTO:+0000
TZNAME:GMT
DTSTART:19701025T020000
RRULE:FREQ=YEARLY;BYMONTH=10;BYDAY=-1SU
END:STANDARD
END:VTIMEZONE
BEGIN:VEVENT
UID:4626108:Event:3408
DTSTAMP:20260425T131953Z
SUMMARY:Foxhills BBQ Evening (plus optional Golf!), Chertsey
DESCRIPTION:Golf & BBQ Evening at Foxhills\n\nA round of golf - or a p
 rofessional lesson? Or just networking and a great barbie?\nJoin us fo
 r golf at 4pm on the Par 3 Manor Course (36 spaces available) or if yo
 u haven’t played or are new to the game why not join in a group less
 on with our Resident Head professional Richard. (24 spaces). After fun
  on the golf course, a BBQ and networking will follow in the Summerhou
 se Restaurant.\nGuest Speaker - Foxhills Networking Facilitator Len Go
 ss from Y and How Ltd. presents \"How to get control of your business 
 and make certain that it is truly serving you and your life - with fun
 .\"\nCOST:Foxhills Members: FREE\nGuests: Option 1: £25.00 (golf and 
 BBQ)... Guests: Option 2: £15.00 (Networking & BBQ only)\nBOOK HERE: 
 Please email James Webster with your preferred option at james@webster
 partnership.co.uk or call James on 07824 807264.\nMAP & DIRECTIONS\nVE
 NUE\n---------------------------------------\nThis event is organised 
 by NiS Member James Webster of The Webster Partnership and by Foxhills
  Resort & Spa\n\nFor more information visit https://networkinginsurrey
 .co.uk/events/foxhills-bbq-evening-plus
DTSTART;TZID=Europe/London:20100921T160000
DTEND;TZID=Europe/London:20100921T200000
CATEGORIES:evening, foxhills, chertsey, business_networking_surrey
LOCATION:Foxhills Resort & Spa, Ottershaw, Chertsey KT16 0EL
WEBSITE:http://www.foxhills.co.uk/events/business-networking.aspx?css=
 1
URL:http://www.foxhills.co.uk/events/business-networking.aspx?css=1
CONTACT:07824 807264
ORGANIZER:James Webster
ATTACH;FMTTYPE="image/jpeg":http://storage.ning.com/topology/rest/1.0/
 file/get/2591380300?profile=original
ATTENDEE;ROLE=REQ-PARTICIPANT;PARTSTAT=ACCEPTED;RSVP=TRUE;CN="Aernout 
 Fabius":https://networkinginsurrey.co.uk/profile/AernoutFabius
ATTENDEE;ROLE=REQ-PARTICIPANT;PARTSTAT=ACCEPTED;RSVP=TRUE;CN="Dean Fau
 lkner":https://networkinginsurrey.co.uk/profile/DeanFaulkner
ATTENDEE;ROLE=REQ-PARTICIPANT;PARTSTAT=ACCEPTED;RSVP=TRUE;CN="Keith Gr
 over, NiS Founder":https://networkinginsurrey.co.uk/profile/KeithGrove
 r
END:VEVENT
END:VCALENDAR
