BEGIN:VCALENDAR
PRODID:NingEventWidget-v1
VERSION:2.0
METHOD:PUBLISH
BEGIN:VTIMEZONE
TZID:Europe/London
X-LIC-LOCATION:Europe/London
BEGIN:DAYLIGHT
TZOFFSETFROM:+0000
TZOFFSETTO:+0100
TZNAME:BST
DTSTART:19700329T010000
RRULE:FREQ=YEARLY;BYMONTH=3;BYDAY=-1SU
END:DAYLIGHT
BEGIN:STANDARD
TZOFFSETFROM:+0100
TZOFFSETTO:+0000
TZNAME:GMT
DTSTART:19701025T020000
RRULE:FREQ=YEARLY;BYMONTH=10;BYDAY=-1SU
END:STANDARD
END:VTIMEZONE
BEGIN:VEVENT
UID:4626108:Event:47926
DTSTAMP:20260426T034313Z
SUMMARY:Foxhills BBQ Evening (plus optional Golf!), Chertsey
DESCRIPTION:Golf & BBQ Evening at Foxhills\n\nA round of golf? Or just
  networking and a great barbie?\nJoin us for golf at 4pm on the Par 3 
 Manor Course. After fun on the golf course, a BBQ and networking will 
 follow in the Summerhouse Restaurant. Join us for the whole event, or 
 just turn up at 5pm after the golf for the BBQ and sociable networking
  in civilised surroundings!\nCOST: Foxhills Members: FREE, Visitors: 
 £15.00 including Networking & BBQ\nBOOK HERE: Please CLICK HERE to b
 ook\nMAP & DIRECTIONS\nVENUE\n---------------------------------------\
 nThis event is organised by Foxhills Resort & Spa\n\nFor more informat
 ion visit https://networkinginsurrey.co.uk/events/foxhills-bbq-evening
 -plus-optional-golf-chertsey
DTSTART;TZID=Europe/London:20120920T150000
DTEND;TZID=Europe/London:20120920T200000
CATEGORIES:evening, foxhills, chertsey, business_networking_surrey
LOCATION:Foxhills Resort & Spa, Ottershaw, Chertsey KT16 0EL
WEBSITE:http://www.foxhills.co.uk/events/business-networking.aspx?css=
 1
URL:http://www.foxhills.co.uk/events/business-networking.aspx?css=1
CONTACT:01932 704547
ORGANIZER:Foxhills Events Team
ATTACH;FMTTYPE="image/jpeg":http://storage.ning.com/topology/rest/1.0/
 file/get/2591380300?profile=original
ATTENDEE;ROLE=REQ-PARTICIPANT;PARTSTAT=ACCEPTED;RSVP=TRUE;CN="Keith Gr
 over, NiS Founder":https://networkinginsurrey.co.uk/profile/KeithGrove
 r
END:VEVENT
END:VCALENDAR
