BEGIN:VCALENDAR
PRODID:NingEventWidget-v1
VERSION:2.0
METHOD:PUBLISH
BEGIN:VTIMEZONE
TZID:Europe/London
X-LIC-LOCATION:Europe/London
BEGIN:DAYLIGHT
TZOFFSETFROM:+0000
TZOFFSETTO:+0100
TZNAME:BST
DTSTART:19700329T010000
RRULE:FREQ=YEARLY;BYMONTH=3;BYDAY=-1SU
END:DAYLIGHT
BEGIN:STANDARD
TZOFFSETFROM:+0100
TZOFFSETTO:+0000
TZNAME:GMT
DTSTART:19701025T020000
RRULE:FREQ=YEARLY;BYMONTH=10;BYDAY=-1SU
END:STANDARD
END:VTIMEZONE
BEGIN:VEVENT
UID:4626108:Event:97671
DTSTAMP:20260422T121004Z
SUMMARY:Haslemere Connections Breakfast
DESCRIPTION:Haslemere Connections Breakfast at The Georgian Hotel\r\nA
 t Connect Surrey, we’re passionate about networking … it is the e
 asiest, most effective way to find new business, it really is, so com
 e and see for yourselves!\r\nYour organisers for this group are Paul 
 Bridgland and Mike Black.   \r\nHaslemere Connections has been going
  for quite some time now and the meeting is set in a great hotel in th
 e heart of Haslemere town. \r\nThis meeting is a fortnightly breakfas
 t meeting, arrival 8am for 8:30am start and will finish around 10am. 
  \r\nFormat:\r\n\r\n60 Second Round\r\n10 Minute Open Networking \r\
 n10 Minute Member Presentation\r\nWrap Up/Testimonial Round \r\n\r\nW
 hy should you come and join us?\r\n\r\nWe run professional meetings \
 r\nOur groups are always fun and friendly\r\nWe are not just busines
 ses acquaintances, you really become good friends\r\nWe have businesse
 s that REALLY DO want to work with each other. Therefore lots of genu
 ine referrals passed amongst each other and all groups.\r\n\r\nWhat a
 re we looking for?\r\n\r\nBusinesses that are looking for more leads\r
 \nBusinesses that would like to be a part of regular local network mee
 tings\r\nOne man bands that work from home who are looking for a local
  support network\r\nBusinesses that want to join a fun and friendly ne
 twork group\r\n\r\nSo if you still haven't quite found the right netwo
 rking group for you, please come along and try us out.  \r\nBoth Pau
 l and Mike look forward to seeing you all and please share this with
  any local businesses you think would benefit from coming along....the
  more the merrier!\r\nCOST: £15 including breakfast \r\nBOOKING: Pl
 ease CLICK HERE to book\r\nMAP\n\nFor more information visit https:/
 /networkinginsurrey.co.uk/events/fortnightly-breakfast-haslemere-conne
 ctions
DTSTART;TZID=Europe/London:20180502T080000
DTEND;TZID=Europe/London:20180502T100000
CATEGORIES:networking
LOCATION:The Georgian Hotel GU27 2JY
WEBSITE:https://connectsurrey.uk/events/haslemere-connections-2-2018-0
 5-02/
URL:https://connectsurrey.uk/events/haslemere-connections-2-2018-05-02
 /
CONTACT:07525 738758
ORGANIZER;CN="Sally Castro Gouveia":https://networkinginsurrey.co.uk/p
 rofile/SallyCastroGouveia
ATTACH;FMTTYPE="image/jpeg":http://storage.ning.com/topology/rest/1.0/
 file/get/2591471893?profile=original
ATTENDEE;ROLE=REQ-PARTICIPANT;PARTSTAT=ACCEPTED;RSVP=TRUE;CN="Sally Ca
 stro Gouveia":https://networkinginsurrey.co.uk/profile/SallyCastroGouv
 eia
END:VEVENT
END:VCALENDAR
