BEGIN:VCALENDAR
PRODID:NingEventWidget-v1
VERSION:2.0
METHOD:PUBLISH
BEGIN:VTIMEZONE
TZID:Europe/London
X-LIC-LOCATION:Europe/London
BEGIN:DAYLIGHT
TZOFFSETFROM:+0000
TZOFFSETTO:+0100
TZNAME:BST
DTSTART:19700329T010000
RRULE:FREQ=YEARLY;BYMONTH=3;BYDAY=-1SU
END:DAYLIGHT
BEGIN:STANDARD
TZOFFSETFROM:+0100
TZOFFSETTO:+0000
TZNAME:GMT
DTSTART:19701025T020000
RRULE:FREQ=YEARLY;BYMONTH=10;BYDAY=-1SU
END:STANDARD
END:VTIMEZONE
BEGIN:VEVENT
UID:4626108:Event:97668
DTSTAMP:20260422T173550Z
SUMMARY:Guildford Connections Breakfast
DESCRIPTION:Guildford Connections\r\nAt Connect Surrey, we’re passio
 nate about networking … it is the easiest, most effective way to f
 ind new business, it really is, so come and see for yourselves!\r\nYou
 r organisers for this group are Paul Bridgland and Greg Holden. \r\n
 Guildford Connections is one of our longest standing groups, so can ge
 t very busy!\r\nThis meeting is a fortnightly breakfast meeting, arriv
 al 8am for 8:30am start and will finish around 10am.  \r\nFormat:\r\
 n\r\n60 Second Round\r\n10 Minute Open Networking \r\n10 Minute Membe
 r Presentation\r\nWrap Up/Testimonial Round \r\n\r\nWhy should you co
 me and join us?\r\n\r\nWe run professional meetings \r\nOur groups ar
 e always fun and friendly\r\nWe are not just businesses acquaintance
 s, you really become good friends\r\nWe have businesses that REALLY DO
  want to work with each other. Therefore lots of genuine referrals p
 assed amongst each other and all groups.\r\n\r\nWhat are we looking fo
 r?\r\n\r\nBusinesses that are looking for more leads\r\nBusinesses tha
 t would like to be a part of regular local network meetings\r\nOne man
  bands that work from home who are looking for a local support network
 \r\nBusinesses that want to join a fun and friendly network group\r\n\
 r\nSo if you still haven't quite found the right networking group for 
 you, please come along and try us out.  \r\nBoth Paul and Greg look 
 forward to seeing you all and please share this with any local busin
 esses you think would benefit from coming along....the more the merrie
 r!\r\nCOST: £15 including breakfast \r\nBOOKING: Please CLICK HERE
  to book\r\nMAP\n\nFor more information visit https://networkinginsur
 rey.co.uk/events/fortnightly-breakfast-guildford-connections
DTSTART;TZID=Europe/London:20180425T083000
DTEND;TZID=Europe/London:20180425T100000
CATEGORIES:networking
LOCATION:Guildford Rugby Club GU7 3DH
WEBSITE:https://connectsurrey.uk/events/guildford-connections-2-2018-0
 4-25/
URL:https://connectsurrey.uk/events/guildford-connections-2-2018-04-25
 /
CONTACT:07525 738758
ORGANIZER;CN="Sally Castro Gouveia":https://networkinginsurrey.co.uk/p
 rofile/SallyCastroGouveia
ATTACH;FMTTYPE="image/jpeg":http://storage.ning.com/topology/rest/1.0/
 file/get/2591471823?profile=original
ATTENDEE;ROLE=REQ-PARTICIPANT;PARTSTAT=ACCEPTED;RSVP=TRUE;CN="Sally Ca
 stro Gouveia":https://networkinginsurrey.co.uk/profile/SallyCastroGouv
 eia
END:VEVENT
END:VCALENDAR
