BEGIN:VCALENDAR
PRODID:NingEventWidget-v1
VERSION:2.0
METHOD:PUBLISH
BEGIN:VTIMEZONE
TZID:Europe/London
X-LIC-LOCATION:Europe/London
BEGIN:DAYLIGHT
TZOFFSETFROM:+0000
TZOFFSETTO:+0100
TZNAME:BST
DTSTART:19700329T010000
RRULE:FREQ=YEARLY;BYMONTH=3;BYDAY=-1SU
END:DAYLIGHT
BEGIN:STANDARD
TZOFFSETFROM:+0100
TZOFFSETTO:+0000
TZNAME:GMT
DTSTART:19701025T020000
RRULE:FREQ=YEARLY;BYMONTH=10;BYDAY=-1SU
END:STANDARD
END:VTIMEZONE
BEGIN:VEVENT
UID:4626108:Event:97840
DTSTAMP:20260422T203923Z
SUMMARY:Farnham Connections Breakfast
DESCRIPTION:Farnham Connections Breakfast at the Hog's Back Hotel\r\nA
 t Connect Surrey, weâ€™re passionate about networking â€¦ it is theÂ e
 asiest, most effective wayÂ to find new business, it really is, so com
 e and see for yourselves!\r\nYour organisers for this group areÂ Paul 
 Bridgland and Steve Page.Â Â \r\nFarnham Connections was launched end 
 of last year and is growing nicely.Â \r\nThis meeting is a fortnightly
  breakfast meeting, arrival 8am for 8:30am start and will finish aroun
 d 10am.Â Â \r\nFormat:\r\n\r\n60 Second Round\r\n10 Minute Open Networ
 kingÂ \r\n10 Minute Member Presentation\r\nWrap Up/Testimonial RoundÂ 
 \r\n\r\nWhy should you come and join us?\r\n\r\nWe run professional me
 etingsÂ \r\nOur groups areÂ alwaysÂ fun and friendly\r\nWe are not jus
 t businesses acquaintances, you really become good friends\r\nWe have 
 businesses that REALLY DO want to work with each other. Therefore lots
  ofÂ genuineÂ referrals passed amongst each other and all groups.\r\n\
 r\nWhat are we looking for?\r\n\r\nBusinesses that are looking for mor
 e leads\r\nBusinesses that would like to be a part of regular local ne
 twork meetings\r\nOne man bands that work from home who are looking fo
 r a local support network\r\nBusinesses that want to join a fun and fr
 iendly network group\r\n\r\nSo if you still haven't quite found the ri
 ght networking group for you, please come along and try us out.Â Â \r\
 nBoth Paul and Steve look forward to seeing you all and pleaseÂ shareÂ
  this with any local businesses you think would benefit from coming al
 ong....the more the merrier!\r\nCOST:Â Â£15 including breakfastÂ \r\nB
 OOKING: PleaseÂ CLICK HEREÂ to book\r\nMAP\n\nFor more information vis
 it https://networkinginsurrey.co.uk/events/fortnightly-breakfast-farnh
 am-connections
DTSTART;TZID=Europe/London:20180504T083000
DTEND;TZID=Europe/London:20180504T100000
CATEGORIES:networking
LOCATION:Hogs Back Hotel GU10 1EX
WEBSITE:https://connectsurrey.uk/events/farnham-connections-2018-05-04
 /
URL:https://connectsurrey.uk/events/farnham-connections-2018-05-04/
CONTACT:07525 738758
ORGANIZER;CN="Sally Castro Gouveia":https://networkinginsurrey.co.uk/p
 rofile/SallyCastroGouveia
ATTACH;FMTTYPE="image/jpeg":http://storage.ning.com/topology/rest/1.0/
 file/get/2591471448?profile=original
ATTENDEE;ROLE=REQ-PARTICIPANT;PARTSTAT=ACCEPTED;RSVP=TRUE;CN="Sally Ca
 stro Gouveia":https://networkinginsurrey.co.uk/profile/SallyCastroGouv
 eia
END:VEVENT
END:VCALENDAR
