BEGIN:VCALENDAR
PRODID:NingEventWidget-v1
VERSION:2.0
METHOD:PUBLISH
BEGIN:VTIMEZONE
TZID:Europe/London
X-LIC-LOCATION:Europe/London
BEGIN:DAYLIGHT
TZOFFSETFROM:+0000
TZOFFSETTO:+0100
TZNAME:BST
DTSTART:19700329T010000
RRULE:FREQ=YEARLY;BYMONTH=3;BYDAY=-1SU
END:DAYLIGHT
BEGIN:STANDARD
TZOFFSETFROM:+0100
TZOFFSETTO:+0000
TZNAME:GMT
DTSTART:19701025T020000
RRULE:FREQ=YEARLY;BYMONTH=10;BYDAY=-1SU
END:STANDARD
END:VTIMEZONE
BEGIN:VEVENT
UID:4626108:Event:97591
DTSTAMP:20260422T235704Z
SUMMARY:Dorking Connections Breakfast - VISITORS DAY
DESCRIPTION:Dorking Connections Breakfast at Hartsfield Manor\r\n\r\nA
 t Connect Surrey, weâ€™re passionate about networking â€¦ it is theÂ e
 asiest, most effective wayÂ to find new business, it really is, so com
 e and see for yourselves!\r\nYour organisers for this group areÂ Paul 
 Bridgland and Abbie Sell.Â \r\nDorking Connections is a fortnightly br
 eakfast meeting,arrival 8am for 8:30am start and will finish around 10
 am.Â Â \r\n\r\nTHIS FRIDAY WE ARE HAVING A VISITORS DAY! - COME AND JO
 IN US!\r\nFormat:\r\n\r\n60 Second Round\r\n10 Minute Open NetworkingÂ
  \r\n10 Minute Member Presentation\r\nWrap Up/Testimonial RoundÂ \r\n\
 r\nWhy should you come and join us?\r\n\r\nWe run professional meeting
 sÂ \r\nOur groups areÂ alwaysÂ fun and friendly\r\nWe are not just bus
 inesses acquaintances, you really become good friends\r\nWe have busin
 esses that REALLY DO want to work with each other. Therefore lots ofÂ 
 genuineÂ referrals passed amongst each other and all groups.\r\n\r\nWh
 at are we looking for?\r\n\r\nBusinesses that are looking for more lea
 ds\r\nBusinesses that would like to be a part of regular local network
  meetings\r\nOne man bands that work from home who are looking for a l
 ocal support network\r\nBusinesses that want to join a fun and friendl
 y network group\r\n\r\nSo if you still haven't quite found the right n
 etworking group for you, please come along and try us out.Â Â \r\nBoth
  Paul and Abbie look forward to seeing you all and pleaseÂ shareÂ this
  with any local businesses you think would benefit from coming along..
 ..the more the merrier!\r\nCOST:Â Â£15Â including breakfast - payable 
 on-line or on the door.\r\nBOOKING: PleaseÂ CLICK HEREÂ to book\r\nMAP
 \n\nFor more information visit https://networkinginsurrey.co.uk/events
 /fortnightly-breakfast-dorking-connections-visitors-day
DTSTART;TZID=Europe/London:20180427T083000
DTEND;TZID=Europe/London:20180427T100000
CATEGORIES:networking
LOCATION:De Vere Hartsfield Manor RH3 7AA
WEBSITE:https://connectsurrey.uk/events/dorking-connections-2018-04-27
 /
URL:https://connectsurrey.uk/events/dorking-connections-2018-04-27/
CONTACT:07525 738758
ORGANIZER;CN="Sally Castro Gouveia":https://networkinginsurrey.co.uk/p
 rofile/SallyCastroGouveia
ATTACH;FMTTYPE="image/jpeg":http://storage.ning.com/topology/rest/1.0/
 file/get/2591471030?profile=original
ATTENDEE;ROLE=REQ-PARTICIPANT;PARTSTAT=ACCEPTED;RSVP=TRUE;CN="Sally Ca
 stro Gouveia":https://networkinginsurrey.co.uk/profile/SallyCastroGouv
 eia
END:VEVENT
END:VCALENDAR
