BEGIN:VCALENDAR
PRODID:NingEventWidget-v1
VERSION:2.0
METHOD:PUBLISH
BEGIN:VTIMEZONE
TZID:Europe/London
X-LIC-LOCATION:Europe/London
BEGIN:DAYLIGHT
TZOFFSETFROM:+0000
TZOFFSETTO:+0100
TZNAME:BST
DTSTART:19700329T010000
RRULE:FREQ=YEARLY;BYMONTH=3;BYDAY=-1SU
END:DAYLIGHT
BEGIN:STANDARD
TZOFFSETFROM:+0100
TZOFFSETTO:+0000
TZNAME:GMT
DTSTART:19701025T020000
RRULE:FREQ=YEARLY;BYMONTH=10;BYDAY=-1SU
END:STANDARD
END:VTIMEZONE
BEGIN:VEVENT
UID:4626108:Event:69222
DTSTAMP:20260419T162511Z
SUMMARY:Caterham \"FORE\" Business Breakfast, Chaldon
DESCRIPTION:Caterham \"FORE\" Business - Surrey National Golf Club\n\n
 Come and join us for a morning of networking to meet our Members follo
 wing by a round of golf!\nWe meet every month to make new connections 
 and referrals to grow our businesses together.\nWe are delighted to we
 lcome you to our Caterham Group which is hosted at the Surrey National
  Golf Club, Surrey.\nThe business networking event in Caterham has bee
 n established since June 2014 and business and friendship within the g
 roup is flourishing. If you would like to attend a “FORE” Business
  golf event at our Caterham group, please visit the web site.\nWe have
  members eagerly waiting to pass referrals and at the same time enjoy 
 an amazing round of golf at Surrey National Golf Club. We currently ha
 ve 18 members and are looking to grow this to over 40.\nCOST: FREE for
  all visitors\nBOOKING: PLease CLICK HERE to book your place\nMAP Ple
 nty of parking available, on arrival meet us in the spike bar next to 
 the Golf Shop, where you will be asked to sign in.\n------------------
 -------------------------\nEVENT ORGANISERS:\nAbout Us\nThe idea for 
 FORE” Business came about when the founders, Sean Fergusson & Arro
 n Busst, met at a local networking event and got talking about golf as
  a common interest. They soon got round to talking about the business 
 successes they had on the golf course. It became clear business and go
 lf has always unofficially gone hand in hand. The green being the perf
 ect ‘playing field’ for important business meetings, discussions a
 nd negotiations to take place; so “FORE” Business was born with th
 e thought, ‘what better way to encourage successful business relatio
 nships, than to create an actual members club for business owners who 
 enjoy golf and love to network?’.\nWe hope you enjoy the “FORE” 
 Business Experience, meeting like-minded people over a wonderful round
  of golf!\nSean Fergusson & Arron Busst\nJoint Co-Founders of “FORE
  Business\n\nFor more information visit https://networkinginsurrey.c
 o.uk/events/fore-business-caterham-group
DTSTART;TZID=Europe/London:20141112T070000
DTEND;TZID=Europe/London:20141112T130000
CATEGORIES:coffee, networking, breakfast, golf, prizes, caterham
LOCATION:Surrey National Golf Club CR3 5AA
WEBSITE:http://www.fore-business.com/our-golf-groups/surrey/caterham-g
 roup
URL:http://www.fore-business.com/our-golf-groups/surrey/caterham-group
CONTACT:07967 555937
ORGANIZER:Michael de Lemos \"FORE\" Business Ambassador Caterham
ATTACH;FMTTYPE="image/jpeg":http://storage.ning.com/topology/rest/1.0/
 file/get/2470855328?profile=original
ATTENDEE;ROLE=REQ-PARTICIPANT;PARTSTAT=ACCEPTED;RSVP=TRUE;CN="Michael 
 de Lemos":https://networkinginsurrey.co.uk/profile/MichaeldeLemos
END:VEVENT
END:VCALENDAR
