BEGIN:VCALENDAR
PRODID:NingEventWidget-v1
VERSION:2.0
METHOD:PUBLISH
BEGIN:VTIMEZONE
TZID:Europe/London
X-LIC-LOCATION:Europe/London
BEGIN:DAYLIGHT
TZOFFSETFROM:+0000
TZOFFSETTO:+0100
TZNAME:BST
DTSTART:19700329T010000
RRULE:FREQ=YEARLY;BYMONTH=3;BYDAY=-1SU
END:DAYLIGHT
BEGIN:STANDARD
TZOFFSETFROM:+0100
TZOFFSETTO:+0000
TZNAME:GMT
DTSTART:19701025T020000
RRULE:FREQ=YEARLY;BYMONTH=10;BYDAY=-1SU
END:STANDARD
END:VTIMEZONE
BEGIN:VEVENT
UID:4626108:Event:68857
DTSTAMP:20260420T140524Z
SUMMARY:Fleet Business Networking Morning, Fleet
DESCRIPTION:Fleet Business Networking at Stockton House\n\nJoin our dy
 namic and exciting Fleet Business Networking Meetings,\nOur networking
  meetings are held on the third Wednesday of every month, 9.30am-11.30
 am at Stockton House in Fleet, Hampshire. All businesses are welcome a
 nd no membership required - turn up, join in and enjoy our ethos of th
 e four C's: Collaboration, Co-operation, Communication and Community.\
 nJoin us to make new business connections and friends or have a chat w
 ith old ones.\nBring along your cards and flyers too to pass round.\nF
 uture Meetings\n\nWednesday 18th November 2014\nWednesday 17th Decembe
 r 2014\nWednesday 21st January 2014\nWednesday 18th February 2014\nWed
 nesday 18th March 2014\nWednesday 15th April 2014\n\n\nCOST: There is 
 a £5 cover charge. We do not charge VAT\nBOOKING: No need to book, ju
 st turn up. For more information please visit our website here\nMAP\n
 \nFor more information visit https://networkinginsurrey.co.uk/events/f
 leet-business-networking-meeting
DTSTART;TZID=Europe/London:20141015T093000
DTEND;TZID=Europe/London:20141015T113000
CATEGORIES:networking, meeting, online, directory, business, group
LOCATION:Stockton House, GU51 1HH
WEBSITE:http://www.fleetbusinessnetwork.co.uk/fleet-business-networkin
 g
URL:http://www.fleetbusinessnetwork.co.uk/fleet-business-networking
CONTACT:01252 628527
ORGANIZER:Caroline Ellison
ATTACH;FMTTYPE="image/jpeg":http://storage.ning.com/topology/rest/1.0/
 file/get/2591450688?profile=original
ATTENDEE;ROLE=REQ-PARTICIPANT;PARTSTAT=ACCEPTED;RSVP=TRUE;CN="Emily Gr
 aham":https://networkinginsurrey.co.uk/profile/EmilyGraham
END:VEVENT
END:VCALENDAR
