BEGIN:VCALENDAR
PRODID:NingEventWidget-v1
VERSION:2.0
METHOD:PUBLISH
BEGIN:VTIMEZONE
TZID:Europe/London
X-LIC-LOCATION:Europe/London
BEGIN:DAYLIGHT
TZOFFSETFROM:+0000
TZOFFSETTO:+0100
TZNAME:BST
DTSTART:19700329T010000
RRULE:FREQ=YEARLY;BYMONTH=3;BYDAY=-1SU
END:DAYLIGHT
BEGIN:STANDARD
TZOFFSETFROM:+0100
TZOFFSETTO:+0000
TZNAME:GMT
DTSTART:19701025T020000
RRULE:FREQ=YEARLY;BYMONTH=10;BYDAY=-1SU
END:STANDARD
END:VTIMEZONE
BEGIN:VEVENT
UID:4626108:Event:1562
DTSTAMP:20260425T185233Z
SUMMARY:First (Second!) Friday Badminton Networking Evening, Lightwate
 r
DESCRIPTION:First (Second!) Friday Badminton Networking Evening hosted
  by projectfive\n\nWe are pleased to invite you to First Friday Badmin
 ton – a fun Business Networking Event hosted by projectfive. Please 
 note - because of Good Friday, we're actually holding the event on the
  SECOND Friday of April.\n\nBusiness Leaders from local companies meet
  for a couple of hours to play badminton in a relaxed and friendly env
 ironment. Here's your chance to reserve your place.\nThe standard of p
 lay (and fitness) is varied, and you'll take part in several games of 
 mixed-doubles. Come along and see for yourself - you'll get to play wi
 th at least 5 partners during the evening, against different opponents
  each time.\n\nThen, it's drinks and snacks in the bar to catch up wit
 h everyone else.And don’t forget your Business Cards too!\n\nBOOK HE
 RE: Places are limited to 30 people. Please get in touch today to rese
 rve your place (badminton@projectfive.co.uk or 01276 455455).\nMAP\n\n
 For more information visit https://networkinginsurrey.co.uk/events/fir
 st-second-friday-badminton
DTSTART;TZID=Europe/London:20100409T180000
DTEND;TZID=Europe/London:20100409T200000
CATEGORIES:badminton, active, evening
LOCATION:Lightwater Leisure Centre, GU18 5RG
WEBSITE:http://www.projectfive.co.uk/newsletter/Badminton_2009/Badmint
 onInvite_APRIL10.html
URL:http://www.projectfive.co.uk/newsletter/Badminton_2009/BadmintonIn
 vite_APRIL10.html
CONTACT:01276 455455
ORGANIZER:Steve Coburn and Sarah Giles
ATTACH;FMTTYPE="image/jpeg":http://storage.ning.com/topology/rest/1.0/
 file/get/2591379540?profile=original
ATTENDEE;ROLE=REQ-PARTICIPANT;PARTSTAT=TENTATIVE;RSVP=TRUE;CN="Keith G
 rover, NiS Founder":https://networkinginsurrey.co.uk/profile/KeithGrov
 er
END:VEVENT
END:VCALENDAR
