BEGIN:VCALENDAR
PRODID:NingEventWidget-v1
VERSION:2.0
METHOD:PUBLISH
BEGIN:VTIMEZONE
TZID:Europe/London
X-LIC-LOCATION:Europe/London
BEGIN:DAYLIGHT
TZOFFSETFROM:+0000
TZOFFSETTO:+0100
TZNAME:BST
DTSTART:19700329T010000
RRULE:FREQ=YEARLY;BYMONTH=3;BYDAY=-1SU
END:DAYLIGHT
BEGIN:STANDARD
TZOFFSETFROM:+0100
TZOFFSETTO:+0000
TZNAME:GMT
DTSTART:19701025T020000
RRULE:FREQ=YEARLY;BYMONTH=10;BYDAY=-1SU
END:STANDARD
END:VTIMEZONE
BEGIN:VEVENT
UID:4626108:Event:47380
DTSTAMP:20260419T130143Z
SUMMARY:FREE First Friday Lunchtime Networking, Guildford
DESCRIPTION:First Friday Guildford Networking Group\n\nOn the First Fr
 iday of every month, the First Friday networkers meet up for a relaxed
  lunchtime session at the Albany, Guildford.  Join us on 3 May 201
 3 and make some great new friends and business contacts.  Attendance 
 is growing by the month so you're sure to make new connections.\nThe G
 roup is hosted by: NiS Member Andrew Horne from True Potential Priva
 te Client Strategies.\n\nJust bring yourself and a wadge of business c
 ards!  All you need to buy are your own drinks or lunch if you want i
 t. (Check out the menu here...)\nCOST: FREE to attend (just buy your
  own food & drinks)\nBOOKING: If you are planning to attend, please e
 mail me (andrewhorne@tpllp.com) so that I can be sure I can accommodat
 e everyone in a comfortable area. \nMAP\nPARKING: There is ample car 
 parking either in the pay and display on Sydenham Road or the main Cas
 tle Street Car Park, both a few minutes away. The Albany is just a sho
 rt walk from Guildford High Street.  There is also up to two-hour on 
 street pay parking right outside.\nThe Guildford Group will meet at Th
 e Albany, Sydenham Road, Guildford on the first Friday of each month b
 etween 12:30 and 14:00 - there's no formality, no speeches and no 90 s
 econd pitches! \n\nFor more information visit https://networkinginsur
 rey.co.uk/events/first-friday-guildford-networking-lunch
DTSTART;TZID=Europe/London:20130503T123000
DTEND;TZID=Europe/London:20130503T143000
CATEGORIES:lunchtime, guildford, first_friday_network, free, business_
 networking
LOCATION:The Albany GU1 3SA
WEBSITE:http://www.thealbanypubguildford.co.uk
URL:http://www.thealbanypubguildford.co.uk
CONTACT:07734 596230
ORGANIZER:Andrew Horne
ATTACH;FMTTYPE="image/jpeg":http://storage.ning.com/topology/rest/1.0/
 file/get/2591389520?profile=original
ATTENDEE;ROLE=REQ-PARTICIPANT;PARTSTAT=ACCEPTED;RSVP=TRUE;CN="Nico van
  Zyl":https://networkinginsurrey.co.uk/profile/NicovanZyl
ATTENDEE;ROLE=REQ-PARTICIPANT;PARTSTAT=ACCEPTED;RSVP=TRUE;CN="Keith Gr
 over, NiS Founder":https://networkinginsurrey.co.uk/profile/KeithGrove
 r
ATTENDEE;ROLE=REQ-PARTICIPANT;PARTSTAT=ACCEPTED;RSVP=TRUE;CN="Iain Bel
 l":https://networkinginsurrey.co.uk/profile/IainBell
ATTENDEE;ROLE=REQ-PARTICIPANT;PARTSTAT=ACCEPTED;RSVP=TRUE;CN="Steve Br
 idger":https://networkinginsurrey.co.uk/profile/SteveBridger
ATTENDEE;ROLE=REQ-PARTICIPANT;PARTSTAT=ACCEPTED;RSVP=TRUE;CN="Tim Brac
 her":https://networkinginsurrey.co.uk/profile/TimBracher
ATTENDEE;ROLE=REQ-PARTICIPANT;PARTSTAT=ACCEPTED;RSVP=TRUE;CN="Andrew H
 orne":https://networkinginsurrey.co.uk/profile/AndrewHorne788
ATTENDEE;ROLE=REQ-PARTICIPANT;PARTSTAT=ACCEPTED;RSVP=TRUE;CN="William 
 Smith":https://networkinginsurrey.co.uk/profile/WillaimSmith
ATTENDEE;ROLE=REQ-PARTICIPANT;PARTSTAT=ACCEPTED;RSVP=TRUE;CN="Mina Bad
 awi":https://networkinginsurrey.co.uk/profile/MinaBadawi
ATTENDEE;ROLE=REQ-PARTICIPANT;PARTSTAT=ACCEPTED;RSVP=TRUE;CN="Ginny Ab
 bott":https://networkinginsurrey.co.uk/profile/GinnyAbbott
ATTENDEE;ROLE=REQ-PARTICIPANT;PARTSTAT=ACCEPTED;RSVP=TRUE;CN="Kevin Ba
 rton":https://networkinginsurrey.co.uk/profile/KevinBarton
ATTENDEE;ROLE=REQ-PARTICIPANT;PARTSTAT=ACCEPTED;RSVP=TRUE;CN="Elaine L
 uck":https://networkinginsurrey.co.uk/profile/ElaineLuck
ATTENDEE;ROLE=REQ-PARTICIPANT;PARTSTAT=TENTATIVE;RSVP=TRUE;CN="Graham 
 Wedgbury":https://networkinginsurrey.co.uk/profile/GrahamWedgbury
END:VEVENT
END:VCALENDAR
