BEGIN:VCALENDAR
PRODID:NingEventWidget-v1
VERSION:2.0
METHOD:PUBLISH
BEGIN:VTIMEZONE
TZID:Europe/London
X-LIC-LOCATION:Europe/London
BEGIN:DAYLIGHT
TZOFFSETFROM:+0000
TZOFFSETTO:+0100
TZNAME:BST
DTSTART:19700329T010000
RRULE:FREQ=YEARLY;BYMONTH=3;BYDAY=-1SU
END:DAYLIGHT
BEGIN:STANDARD
TZOFFSETFROM:+0100
TZOFFSETTO:+0000
TZNAME:GMT
DTSTART:19701025T020000
RRULE:FREQ=YEARLY;BYMONTH=10;BYDAY=-1SU
END:STANDARD
END:VTIMEZONE
BEGIN:VEVENT
UID:4626108:Event:1960
DTSTAMP:20260426T050208Z
SUMMARY:First Friday Badminton Networking Evening, Lightwater
DESCRIPTION:First Friday Badminton Networking Evening hosted by projec
 tfive\n\nWe are pleased to invite you to First Friday Badminton – a 
 fun Business Networking Event hosted by projectfive.\nBusiness Leaders
  from local companies meet for a couple of hours to play badminton in 
 a relaxed and friendly environment. Here's your chance to reserve your
  place. The standard of play (and fitness) is varied, and you'll take 
 part in several games of mixed-doubles. Come along and see for yoursel
 f - you'll get to play with at least 5 partners during the evening, ag
 ainst different opponents each time.\nThen, it's drinks and snacks in 
 the bar to catch up with everyone else.And don’t forget your Busines
 s Cards too!\n\nCURRY SPECIAL And, as a special post-election special,
  we'll be heading to a local Indian Restaurant for a Curry afterwards.
  This is not an official part of the evening - but something that a fe
 w people have suggested recently. So, if you want to join us, please l
 et us know when you respond\n\nBOOK HERE: Places are limited to 30 peo
 ple. Please get in touch today to reserve your place (badminton@projec
 tfive.co.uk or 01276 455455).\nMAP\n\nFor more information visit https
 ://networkinginsurrey.co.uk/events/first-friday-badminton-2
DTSTART;TZID=Europe/London:20100507T180000
DTEND;TZID=Europe/London:20100507T200000
CATEGORIES:badminton, active, evening
LOCATION:Lightwater Leisure Centre, GU18 5RG
WEBSITE:
URL:
CONTACT:01276 455455
ORGANIZER:Steve Coburn and Sarah Giles
ATTACH;FMTTYPE="image/jpeg":http://storage.ning.com/topology/rest/1.0/
 file/get/2591379540?profile=original
ATTENDEE;ROLE=REQ-PARTICIPANT;PARTSTAT=TENTATIVE;RSVP=TRUE;CN="Keith G
 rover, NiS Founder":https://networkinginsurrey.co.uk/profile/KeithGrov
 er
END:VEVENT
END:VCALENDAR
