BEGIN:VCALENDAR
PRODID:NingEventWidget-v1
VERSION:2.0
METHOD:PUBLISH
BEGIN:VTIMEZONE
TZID:Europe/London
X-LIC-LOCATION:Europe/London
BEGIN:DAYLIGHT
TZOFFSETFROM:+0000
TZOFFSETTO:+0100
TZNAME:BST
DTSTART:19700329T010000
RRULE:FREQ=YEARLY;BYMONTH=3;BYDAY=-1SU
END:DAYLIGHT
BEGIN:STANDARD
TZOFFSETFROM:+0100
TZOFFSETTO:+0000
TZNAME:GMT
DTSTART:19701025T020000
RRULE:FREQ=YEARLY;BYMONTH=10;BYDAY=-1SU
END:STANDARD
END:VTIMEZONE
BEGIN:VEVENT
UID:4626108:Event:5607
DTSTAMP:20260423T034448Z
SUMMARY:First Friday Badminton Networking Evening, Lightwater
DESCRIPTION:First Friday Badminton Evening at Lightwater Leisure Centr
 e\nWe are pleased to invite you to First Friday Badminton – a fun Bu
 siness Networking Event hosted by projectfive.\nBusiness Leaders from 
 local companies meet for a couple of hours to play badminton in a rela
 xed and friendly environment. Here's your chance to reserve your place
 . The standard of play (and fitness) is varied, and you'll take part i
 n several games of mixed-doubles. Come along and see for yourself - yo
 u'll get to play with at least 5 partners during the evening, against 
 different opponents each time. Then, it's drinks and snacks in the bar
  to catch up with everyone else. And don’t forget your Business Card
 s too!\nCOST: £10 for racquet and court hire, buy your own refreshmen
 ts\nBOOK HERE: Places are limited to 30 people. Please get in touch to
 day to reserve your place (badminton@projectfive.co.uk or 01276 455455
 ).\nMAP\n------------------------------------------\n\"What an excelle
 ntly organised and well run event. It was a great opportunity to meet 
 up with other local business in a relaxed and informal environment. I 
 had forgotten how much fun playing badminton was and I look forward to
  the next evening ( I may even practice before this one!!). Thanks for
  your time and hospitality. \" Graeme Winship, Director of Logistics, 
 Bisley Office Furniture.\n\"What a brilliant evening – it was a grea
 t way to meet local businesses, and really enjoyable too. I hadn’t p
 layed Badminton for a while – but it was all so relaxed and friendly
  that I was soon in the swing of it again. Thank you for organising th
 e evening and I’m looking forward to the next one.\" John Biffen, Pa
 rtner, Menzies.\n\nFor more information visit https://networkinginsurr
 ey.co.uk/events/first-friday-badminton-1
DTSTART;TZID=Europe/London:20110304T180000
DTEND;TZID=Europe/London:20110304T200000
CATEGORIES:badminton, active, evening, business_networking
LOCATION:Lightwater Leisure Centre, GU18 5RG
WEBSITE:http://www.projectfive.co.uk/newsletter/badminton_2011/Badmint
 onInvite_JAN11.html
URL:http://www.projectfive.co.uk/newsletter/badminton_2011/BadmintonIn
 vite_JAN11.html
CONTACT:01276 455455
ORGANIZER:Steve Coburn and Sarah Giles
ATTACH;FMTTYPE="image/jpeg":http://storage.ning.com/topology/rest/1.0/
 file/get/2591379540?profile=original
END:VEVENT
END:VCALENDAR
