BEGIN:VCALENDAR
PRODID:NingEventWidget-v1
VERSION:2.0
METHOD:PUBLISH
BEGIN:VTIMEZONE
TZID:Europe/London
X-LIC-LOCATION:Europe/London
BEGIN:DAYLIGHT
TZOFFSETFROM:+0000
TZOFFSETTO:+0100
TZNAME:BST
DTSTART:19700329T010000
RRULE:FREQ=YEARLY;BYMONTH=3;BYDAY=-1SU
END:DAYLIGHT
BEGIN:STANDARD
TZOFFSETFROM:+0100
TZOFFSETTO:+0000
TZNAME:GMT
DTSTART:19701025T020000
RRULE:FREQ=YEARLY;BYMONTH=10;BYDAY=-1SU
END:STANDARD
END:VTIMEZONE
BEGIN:VEVENT
UID:4626108:Event:69937
DTSTAMP:20260422T012301Z
SUMMARY:MEMBER PROMO: FREE Festive Evening, Cobham
DESCRIPTION:Free Promotional Networking Evening at Silvermere\n\nThis 
 networking event is being held to spread the word about the Uth skin r
 ejuvenation product range. The Silvermere Bar is open and we will have
  mince pies, a fun quiz, great prizes and much more!!\nJoin our client
 s for some informal networking in the bar from 7pm led by the network
 ing king Des Daly…\nThe room will be ready for 7.30pm… with 3 shor
 t interactive Presentations from 8pm on Healthzone, Uth Zone and Miss
 ion 5 Million - a snapshot into the latest in our cutting edge nutrit
 ion, tasters, demos and healthy stockimg fillers, skin rejuvenation de
 mos and an update on our social entrepreneur mission M5M. \nCOST: FRE
 E to attend\nBOOKING:\nMAP Plenty of free parking available\n\nFor mor
 e information visit https://networkinginsurrey.co.uk/events/festive-si
 lvermere-gathering
DTSTART;TZID=Europe/London:20141202T190000
DTEND;TZID=Europe/London:20141202T213000
CATEGORIES:christmas, celebration
LOCATION:Silvermere Golf and Leisure Club KT11 1EF
WEBSITE:https://www.silvermere-golf.co.uk/
URL:https://www.silvermere-golf.co.uk/
CONTACT:07942 816937
ORGANIZER;CN="Yvonne Stone":https://networkinginsurrey.co.uk/profile/Y
 vonneStone
ATTACH;FMTTYPE="image/jpeg":http://storage.ning.com/topology/rest/1.0/
 file/get/2591435531?profile=original
ATTENDEE;ROLE=REQ-PARTICIPANT;PARTSTAT=ACCEPTED;RSVP=TRUE;CN="Yvonne S
 tone":https://networkinginsurrey.co.uk/profile/YvonneStone
END:VEVENT
END:VCALENDAR
