BEGIN:VCALENDAR
PRODID:NingEventWidget-v1
VERSION:2.0
METHOD:PUBLISH
BEGIN:VTIMEZONE
TZID:Europe/London
X-LIC-LOCATION:Europe/London
BEGIN:DAYLIGHT
TZOFFSETFROM:+0000
TZOFFSETTO:+0100
TZNAME:BST
DTSTART:19700329T010000
RRULE:FREQ=YEARLY;BYMONTH=3;BYDAY=-1SU
END:DAYLIGHT
BEGIN:STANDARD
TZOFFSETFROM:+0100
TZOFFSETTO:+0000
TZNAME:GMT
DTSTART:19701025T020000
RRULE:FREQ=YEARLY;BYMONTH=10;BYDAY=-1SU
END:STANDARD
END:VTIMEZONE
BEGIN:VEVENT
UID:4626108:Event:49041
DTSTAMP:20260422T011513Z
SUMMARY:FSB Have Your Say Evening, Windlesham
DESCRIPTION:FSB Woking Branch AGM, Refreshments & 'Have your Say and N
 etworking Evening'Windlesham Golf Club\n\nRegistration is at 6.30pm, i
 mmediately followed by the AGM at 7.00 pm.\nAfter the brief formalitie
 s of the AGM, there will be a buffet and an opportunity to network.whi
 ch will provide an ideal opportunity for you to meet and network with 
 other local members of the FSB and to promote your business to them\nF
 ollowing this the evening features the popular 'Have your Say' where t
 here are no speeches, just introductions and the opportunity to advert
 ise your business during a 30-second pitch and to share your thoughts 
 on the business issues that affect you so we can lobby for change on b
 oth a national and local level.\nCOST: The AGM is FREE to attend, but 
 there is a small charge of £10 for FSB Members (£15 for guests) for 
 the buffet \nBOOKING: CLICK HERE TO BOOK \nMAP printable PDF\nTher
 e is plenty of free parking at the venue.\n\n\nFor more information vi
 sit https://networkinginsurrey.co.uk/events/federation-of-small-busine
 ss-fsb-have-your-say-evening
DTSTART;TZID=Europe/London:20121031T190000
DTEND;TZID=Europe/London:20121031T223000
CATEGORIES:evening, windelsham
LOCATION:Windlesham Golf Club   GU19 5HY
WEBSITE:http://www.windleshamgolf.com/Portals/7/PDFS/WGC_MAP_A3.pdf
URL:http://www.windleshamgolf.com/Portals/7/PDFS/WGC_MAP_A3.pdf
CONTACT:07768 197507
ORGANIZER;CN="Jane Hardy":https://networkinginsurrey.co.uk/profile/Jan
 eHardy
ATTACH;FMTTYPE="image/jpeg":http://storage.ning.com/topology/rest/1.0/
 file/get/2591378234?profile=original
ATTENDEE;ROLE=REQ-PARTICIPANT;PARTSTAT=ACCEPTED;RSVP=TRUE;CN="David Sh
 aw":https://networkinginsurrey.co.uk/profile/DavidShaw
ATTENDEE;ROLE=REQ-PARTICIPANT;PARTSTAT=ACCEPTED;RSVP=TRUE;CN="Jane Har
 dy":https://networkinginsurrey.co.uk/profile/JaneHardy
END:VEVENT
END:VCALENDAR
