BEGIN:VCALENDAR
PRODID:NingEventWidget-v1
VERSION:2.0
METHOD:PUBLISH
BEGIN:VTIMEZONE
TZID:Europe/London
X-LIC-LOCATION:Europe/London
BEGIN:DAYLIGHT
TZOFFSETFROM:+0000
TZOFFSETTO:+0100
TZNAME:BST
DTSTART:19700329T010000
RRULE:FREQ=YEARLY;BYMONTH=3;BYDAY=-1SU
END:DAYLIGHT
BEGIN:STANDARD
TZOFFSETFROM:+0100
TZOFFSETTO:+0000
TZNAME:GMT
DTSTART:19701025T020000
RRULE:FREQ=YEARLY;BYMONTH=10;BYDAY=-1SU
END:STANDARD
END:VTIMEZONE
BEGIN:VEVENT
UID:4626108:Event:12005
DTSTAMP:20260422T201143Z
SUMMARY:Farnham Twestival - - Evening Charity Event
DESCRIPTION:Farnham Twestival at the Mercure Bush\n\nTwestival is a gl
 obal date where Twitter users come together to network in person and r
 aise money for charity.\nWe’re all very much looking forward to this
  Thursday’s Twestival Farnham! We have a fantastic speaker lined up 
 on the night, Ilicco Elia, Head of Consumer Mobile at Reuters (@ilicco
 ) who will be delivering the keynote talk, ‘A Corporate Lad Living i
 n a Mobile Social world’. The talk will discuss how mobile has chang
 ed the news cycle by impacting all stages of the process of news gathe
 ring, curation and distribution.\nWe’re delighted that Ilicco will b
 e joining us and supporting Twestival Farnham to help Phyllis Tuckwell
  Hospice.\nFollowing the keynote talk, Business and Technology journal
 ist, Chris Green will chair a panel discussion with industry experts a
 bout the role of online participation in the concept of Big Society. J
 oining Chris and Ilicco on the panel will be:•    Kerry Bridge, S
 ocial Media Communications Manager at Dell (@KerryatDell)•    Jam
 es Firth, Managing Director at Dalton Firth (@JamesFirth)•    Spe
 ncer Gallagher, Founder of Bluhalo (@spg4)•    Trefor Davis, CTO 
 and Co-founder of Timico (@tref).Only a limited number of tickets are 
 available for the event, so make sure you get yours now to avoid disap
 pointment!\nCOST:£15 donation to Phyllis Tuckwell Hospice\nCLICK HERE
  TO BOOK and for more info\nMAP\n\nFor more information visit https://
 networkinginsurrey.co.uk/events/farnham-twestival-evening
DTSTART;TZID=Europe/London:20110324T190000
DTEND;TZID=Europe/London:20110324T230000
CATEGORIES:fundraiser, tweetup, twestival
LOCATION:Mercure Bush Hotel GU9 7NN
WEBSITE:http://farnham.twestival.com/
URL:http://farnham.twestival.com/
CONTACT:
ORGANIZER:thebluedoor
ATTACH;FMTTYPE="image/jpeg":http://storage.ning.com/topology/rest/1.0/
 file/get/2591391784?profile=original
ATTENDEE;ROLE=REQ-PARTICIPANT;PARTSTAT=ACCEPTED;RSVP=TRUE;CN="Keith Gr
 over, NiS Founder":https://networkinginsurrey.co.uk/profile/KeithGrove
 r
END:VEVENT
END:VCALENDAR
