BEGIN:VCALENDAR
PRODID:NingEventWidget-v1
VERSION:2.0
METHOD:PUBLISH
BEGIN:VTIMEZONE
TZID:Europe/London
X-LIC-LOCATION:Europe/London
BEGIN:DAYLIGHT
TZOFFSETFROM:+0000
TZOFFSETTO:+0100
TZNAME:BST
DTSTART:19700329T010000
RRULE:FREQ=YEARLY;BYMONTH=3;BYDAY=-1SU
END:DAYLIGHT
BEGIN:STANDARD
TZOFFSETFROM:+0100
TZOFFSETTO:+0000
TZNAME:GMT
DTSTART:19701025T020000
RRULE:FREQ=YEARLY;BYMONTH=10;BYDAY=-1SU
END:STANDARD
END:VTIMEZONE
BEGIN:VEVENT
UID:4626108:Event:68196
DTSTAMP:20260421T010230Z
SUMMARY:Farnham Hub Talk & Networking Morning, Bordon
DESCRIPTION:GrowthAccelerator by David Norris\n\nSo far over 17,000 am
 bitious business owners in England have taken advantage of funded supp
 ort to help them grow their business. Come and find out how you could 
 join in.\nGrowthAccelerator is a unique service led by some of the cou
 ntry's most successful growth specialists where youâ€™ll find new conn
 ections, new routes to investment and the new ideas and strategy youâ€
 ™ll need for your business to achieve its full potential. Â David will
  show you exactly what you can achieve and how to go about the GrowthA
 ccelerator scheme.\nBusinesses that seek external advice and informati
 on are 14% more ambitious and 50% more successful than those that do n
 ot (BIS , 2010)\nFollowed by networking. Come prepared to introduce yo
 ur business, meet other business owners one to one, learn some new stu
 ff and enjoy yourself! Donâ€™t forget your business cards!\n\n\nThe Co
 untry Market is on the A325 opposite the LMC Garage just outside of Bo
 rdon. Â Your Sat Nav may take you to a private house so please follow 
 these directions.\nCOST: Free to Members, ÂŁ18 to Visitors\nBOOKING: P
 lease click hereÂ to book your place\nMAP\n\nFor more information visi
 t https://networkinginsurrey.co.uk/events/farnham-hub-talk-networking-
 morning-bordon
DTSTART;TZID=Europe/London:20141010T100000
DTEND;TZID=Europe/London:20141010T120000
CATEGORIES:morning, bordon
LOCATION:The Business Hub, The Country Market
WEBSITE:https://www.google.com/maps/place/Sleaford,+Bordon,+Hampshire+
 GU35+0QP,+UK/@51.1429363,-0.8491651,15z/data=!4m2!3m1!1s0x48743184c631
 3913:0xb0011eca074e0802
URL:https://www.google.com/maps/place/Sleaford,+Bordon,+Hampshire+GU35
 +0QP,+UK/@51.1429363,-0.8491651,15z/data=!4m2!3m1!1s0x48743184c6313913
 :0xb0011eca074e0802
CONTACT:02087209355
ORGANIZER;CN="Emma Selby":https://networkinginsurrey.co.uk/profile/Emm
 aSelby
ATTACH;FMTTYPE="image/jpeg":http://storage.ning.com/topology/rest/1.0/
 file/get/2591432434?profile=original
ATTENDEE;ROLE=REQ-PARTICIPANT;PARTSTAT=ACCEPTED;RSVP=TRUE;CN="Emma Sel
 by":https://networkinginsurrey.co.uk/profile/EmmaSelby
END:VEVENT
END:VCALENDAR
