BEGIN:VCALENDAR
PRODID:NingEventWidget-v1
VERSION:2.0
METHOD:PUBLISH
BEGIN:VTIMEZONE
TZID:Europe/London
X-LIC-LOCATION:Europe/London
BEGIN:DAYLIGHT
TZOFFSETFROM:+0000
TZOFFSETTO:+0100
TZNAME:BST
DTSTART:19700329T010000
RRULE:FREQ=YEARLY;BYMONTH=3;BYDAY=-1SU
END:DAYLIGHT
BEGIN:STANDARD
TZOFFSETFROM:+0100
TZOFFSETTO:+0000
TZNAME:GMT
DTSTART:19701025T020000
RRULE:FREQ=YEARLY;BYMONTH=10;BYDAY=-1SU
END:STANDARD
END:VTIMEZONE
BEGIN:VEVENT
UID:4626108:Event:69830
DTSTAMP:20260422T201031Z
SUMMARY:Farnham Hub Talk & Networking Morning, Bordon
DESCRIPTION:How To Build A Brand On A Shoestring by Philip Craik\n\nPh
 ilip Craik is an entrepreneur running his own publishing company. He w
 as recently chosen by Enterprise Nation to participate in a highly suc
 cessful trip to NYC as part of Go Global.  Philip has also taken part
  in BBC's Dragon's Den and is passionate about speaking up for indepen
 dent business.\nPhilip will talk about how he built the brand Popagami
  for his publishing company Pop-Ettes Ltd and the unusual consequences
  that have transpired over the past few years. He will also expound on
  the changing world of publishing and where he see's this heading in t
 he future both from a technological side and public demand.\nYou can s
 ee his biog here;http://popagami.com/\nFollowed by networking. Come pr
 epared to introduce your business, meet other business owners one to o
 ne, learn some new stuff and enjoy yourself! Don’t forget your busin
 ess cards!\n\n\nThe Country Market is on the A325 opposite the LMC Gar
 age just outside of Bordon.  Your Sat Nav may take you to a private h
 ouse so please follow these directions.\nCOST: Free to Members, £15 t
 o Visitors\nBOOKING: Please click here to book your place\nMAP\n\nFor
  more information visit https://networkinginsurrey.co.uk/events/farnha
 m-hub-talk-networking-morning-bordon-9
DTSTART;TZID=Europe/London:20141205T100000
DTEND;TZID=Europe/London:20141205T120000
CATEGORIES:morning, bordon
LOCATION:The Business Hub, The Country Market
WEBSITE:https://www.google.com/maps/place/Sleaford,+Bordon,+Hampshire+
 GU35+0QP,+UK/@51.1429363,-0.8491651,15z/data=!4m2!3m1!1s0x48743184c631
 3913:0xb0011eca074e0802
URL:https://www.google.com/maps/place/Sleaford,+Bordon,+Hampshire+GU35
 +0QP,+UK/@51.1429363,-0.8491651,15z/data=!4m2!3m1!1s0x48743184c6313913
 :0xb0011eca074e0802
CONTACT:02087209355
ORGANIZER;CN="Emma Selby":https://networkinginsurrey.co.uk/profile/Emm
 aSelby
ATTACH;FMTTYPE="image/jpeg":http://storage.ning.com/topology/rest/1.0/
 file/get/2591432434?profile=original
ATTENDEE;ROLE=REQ-PARTICIPANT;PARTSTAT=ACCEPTED;RSVP=TRUE;CN="Emma Sel
 by":https://networkinginsurrey.co.uk/profile/EmmaSelby
END:VEVENT
END:VCALENDAR
