BEGIN:VCALENDAR
PRODID:NingEventWidget-v1
VERSION:2.0
METHOD:PUBLISH
BEGIN:VTIMEZONE
TZID:Europe/London
X-LIC-LOCATION:Europe/London
BEGIN:DAYLIGHT
TZOFFSETFROM:+0000
TZOFFSETTO:+0100
TZNAME:BST
DTSTART:19700329T010000
RRULE:FREQ=YEARLY;BYMONTH=3;BYDAY=-1SU
END:DAYLIGHT
BEGIN:STANDARD
TZOFFSETFROM:+0100
TZOFFSETTO:+0000
TZNAME:GMT
DTSTART:19701025T020000
RRULE:FREQ=YEARLY;BYMONTH=10;BYDAY=-1SU
END:STANDARD
END:VTIMEZONE
BEGIN:VEVENT
UID:4626108:Event:69719
DTSTAMP:20260421T181043Z
SUMMARY:Farnham Hub Talk & Networking Morning, Bordon
DESCRIPTION:How To Set Up Your First Adwords Campaign by Steve Perry\n
 \nSteve Perry from Pixal Ltd has years of experience managing Google 
 Adwords campaigns for big brands and recently set up his own business 
 to help SMEs get the same kind of expert advice on their ad campaigns 
 as the bigger brands. Based in Passfield with a team of 5, Steve will 
 help answer all your questions about Google Adwords in this 45 min tal
 k.\nFollowed by networking. Come prepared to introduce your business, 
 meet other business owners one to one, learn some new stuff and enjoy 
 yourself! Don’t forget your business cards!\n\nThe Country Market is
  on the A325 opposite the LMC Garage just outside of Bordon.  Your Sa
 t Nav may take you to a private house so please follow these direction
 s.\nCOST: Free to Members, £15 to Visitors\nBOOKING: Please click her
 e to book your place\nMAP\n\nFor more information visit https://netwo
 rkinginsurrey.co.uk/events/farnham-hub-talk-networking-morning-bordon-
 8
DTSTART;TZID=Europe/London:20141128T100000
DTEND;TZID=Europe/London:20141128T120000
CATEGORIES:morning, bordon
LOCATION:The Business Hub, The Country Market
WEBSITE:https://www.google.com/maps/place/Sleaford,+Bordon,+Hampshire+
 GU35+0QP,+UK/@51.1429363,-0.8491651,15z/data=!4m2!3m1!1s0x48743184c631
 3913:0xb0011eca074e0802
URL:https://www.google.com/maps/place/Sleaford,+Bordon,+Hampshire+GU35
 +0QP,+UK/@51.1429363,-0.8491651,15z/data=!4m2!3m1!1s0x48743184c6313913
 :0xb0011eca074e0802
CONTACT:02087209355
ORGANIZER;CN="Emma Selby":https://networkinginsurrey.co.uk/profile/Emm
 aSelby
ATTACH;FMTTYPE="image/jpeg":http://storage.ning.com/topology/rest/1.0/
 file/get/2591432434?profile=original
ATTENDEE;ROLE=REQ-PARTICIPANT;PARTSTAT=ACCEPTED;RSVP=TRUE;CN="Emma Sel
 by":https://networkinginsurrey.co.uk/profile/EmmaSelby
END:VEVENT
END:VCALENDAR
