BEGIN:VCALENDAR
PRODID:NingEventWidget-v1
VERSION:2.0
METHOD:PUBLISH
BEGIN:VTIMEZONE
TZID:Europe/London
X-LIC-LOCATION:Europe/London
BEGIN:DAYLIGHT
TZOFFSETFROM:+0000
TZOFFSETTO:+0100
TZNAME:BST
DTSTART:19700329T010000
RRULE:FREQ=YEARLY;BYMONTH=3;BYDAY=-1SU
END:DAYLIGHT
BEGIN:STANDARD
TZOFFSETFROM:+0100
TZOFFSETTO:+0000
TZNAME:GMT
DTSTART:19701025T020000
RRULE:FREQ=YEARLY;BYMONTH=10;BYDAY=-1SU
END:STANDARD
END:VTIMEZONE
BEGIN:VEVENT
UID:4626108:Event:69418
DTSTAMP:20260420T100910Z
SUMMARY:Farnham Hub Talk & Networking Morning, Bordon
DESCRIPTION:LinkedIn by Nicky Kriel\n\nDid you know that you could be 
 accessing a database of 150 million business professionals for free? 
  LinkedIn is probably the most underutilised resource that you have as
  a business.  Do you want you to learn how to harness the power of Li
 nkedIn?\nIf you are a business owner with a LinkedIn account and have 
 accepted a few connections, but haven’t used LinkedIn to grow your b
 usiness yet, then this talk is ideal for you.  Why be fabulous if you
  can't be found.\nFollowed by networking. Come prepared to introduce y
 our business, meet other business owners one to one, learn some new st
 uff and enjoy yourself! Don’t forget your business cards!\n\n\nThe C
 ountry Market is on the A325 opposite the LMC Garage just outside of B
 ordon.  Your Sat Nav may take you to a private house so please follow
  these directions.\nCOST: Free to Members, £18 to Visitors\nBOOKING: 
 Please click here to book your place\nMAP\n\nFor more information vis
 it https://networkinginsurrey.co.uk/events/farnham-hub-talk-networking
 -morning-bordon-6
DTSTART;TZID=Europe/London:20141114T100000
DTEND;TZID=Europe/London:20141114T120000
CATEGORIES:morning, bordon
LOCATION:The Business Hub, The Country Market
WEBSITE:https://www.google.com/maps/place/Sleaford,+Bordon,+Hampshire+
 GU35+0QP,+UK/@51.1429363,-0.8491651,15z/data=!4m2!3m1!1s0x48743184c631
 3913:0xb0011eca074e0802
URL:https://www.google.com/maps/place/Sleaford,+Bordon,+Hampshire+GU35
 +0QP,+UK/@51.1429363,-0.8491651,15z/data=!4m2!3m1!1s0x48743184c6313913
 :0xb0011eca074e0802
CONTACT:02087209355
ORGANIZER;CN="Emma Selby":https://networkinginsurrey.co.uk/profile/Emm
 aSelby
ATTACH;FMTTYPE="image/jpeg":http://storage.ning.com/topology/rest/1.0/
 file/get/2591432434?profile=original
ATTENDEE;ROLE=REQ-PARTICIPANT;PARTSTAT=ACCEPTED;RSVP=TRUE;CN="Emma Sel
 by":https://networkinginsurrey.co.uk/profile/EmmaSelby
END:VEVENT
END:VCALENDAR
