BEGIN:VCALENDAR
PRODID:NingEventWidget-v1
VERSION:2.0
METHOD:PUBLISH
BEGIN:VTIMEZONE
TZID:Europe/London
X-LIC-LOCATION:Europe/London
BEGIN:DAYLIGHT
TZOFFSETFROM:+0000
TZOFFSETTO:+0100
TZNAME:BST
DTSTART:19700329T010000
RRULE:FREQ=YEARLY;BYMONTH=3;BYDAY=-1SU
END:DAYLIGHT
BEGIN:STANDARD
TZOFFSETFROM:+0100
TZOFFSETTO:+0000
TZNAME:GMT
DTSTART:19701025T020000
RRULE:FREQ=YEARLY;BYMONTH=10;BYDAY=-1SU
END:STANDARD
END:VTIMEZONE
BEGIN:VEVENT
UID:4626108:Event:72684
DTSTAMP:20260419T211741Z
SUMMARY:Farnham Hub Talk & Networking Morning, Bordon
DESCRIPTION:A practical introduction to cost effective branding \n\nW
 ith Lisa Clune from Thrive Studios\nHow can you get real brand recogn
 ition on a budget? \nLisa will cover the basics and give you practica
 l tips on building your brand with minimum budget. Take away instant b
 randing ideas to get your business looking more fabulous in just a few
  days. \nWith over 20 years experience in design and branding Lisa ca
 n instantly help you look more professional with these fab shortcut id
 eas and solutions. \n10am - 11am - Workshop\n11am - 12pm - Networking
 \n \n\nThe Country Market is on the A325 opposite the LMC Garage just
  outside of Bordon.  Your Sat Nav may take you to a private house so 
 please follow these directions.\nCOST: Free to Members and first time 
 guests!\nBOOKING: Please click here to book your place\nMAP\n\nFor mo
 re information visit https://networkinginsurrey.co.uk/events/farnham-h
 ub-talk-networking-morning-bordon-207
DTSTART;TZID=Europe/London:20150619T100000
DTEND;TZID=Europe/London:20150619T120000
CATEGORIES:morning, bordon
LOCATION:The Business Hub, The Country Market
WEBSITE:https://www.google.com/maps/place/Sleaford,+Bordon,+Hampshire+
 GU35+0QP,+UK/@51.1429363,-0.8491651,15z/data=!4m2!3m1!1s0x48743184c631
 3913:0xb0011eca074e0802
URL:https://www.google.com/maps/place/Sleaford,+Bordon,+Hampshire+GU35
 +0QP,+UK/@51.1429363,-0.8491651,15z/data=!4m2!3m1!1s0x48743184c6313913
 :0xb0011eca074e0802
CONTACT:02087209355
ORGANIZER;CN="Emma Selby":https://networkinginsurrey.co.uk/profile/Emm
 aSelby
ATTACH;FMTTYPE="image/jpeg":http://storage.ning.com/topology/rest/1.0/
 file/get/2470849096?profile=original
ATTENDEE;ROLE=REQ-PARTICIPANT;PARTSTAT=ACCEPTED;RSVP=TRUE;CN="Emma Sel
 by":https://networkinginsurrey.co.uk/profile/EmmaSelby
END:VEVENT
END:VCALENDAR
