BEGIN:VCALENDAR
PRODID:NingEventWidget-v1
VERSION:2.0
METHOD:PUBLISH
BEGIN:VTIMEZONE
TZID:Europe/London
X-LIC-LOCATION:Europe/London
BEGIN:DAYLIGHT
TZOFFSETFROM:+0000
TZOFFSETTO:+0100
TZNAME:BST
DTSTART:19700329T010000
RRULE:FREQ=YEARLY;BYMONTH=3;BYDAY=-1SU
END:DAYLIGHT
BEGIN:STANDARD
TZOFFSETFROM:+0100
TZOFFSETTO:+0000
TZNAME:GMT
DTSTART:19701025T020000
RRULE:FREQ=YEARLY;BYMONTH=10;BYDAY=-1SU
END:STANDARD
END:VTIMEZONE
BEGIN:VEVENT
UID:4626108:Event:69675
DTSTAMP:20260423T184008Z
SUMMARY:Farnham Hub Talk & Networking Morning, Bordon
DESCRIPTION:How To Create a Good Email Campaign by Jonathan Howkins\n\
 nA strong email marketing campaign is vital to the success of any onli
 ne business in the 21st century. Properly executed, an email marketing
  campaign can reach thousands of potential customers without a signifi
 cant amount of financial overhead. Learning how to create a strong ema
 il marketing campaign involves utilizing detailed knowledge of both yo
 ur customer base and the product or service you are offering. When don
 e effectively, a solid email campaign can bring a high rate of investm
 ent (ROI) on your initial effort.\nJonathan Howkins has 20 years’ ex
 perience in email marketing and will take you through the steps to cre
 ate a great email campaign.\nFollowed by networking. Come prepared to 
 introduce your business, meet other business owners one to one, learn 
 some new stuff and enjoy yourself! Don’t forget your business cards!
 \n\n\nThe Country Market is on the A325 opposite the LMC Garage just o
 utside of Bordon.  Your Sat Nav may take you to a private house so pl
 ease follow these directions.\nCOST: Free to Members, £15 to Visitors
 \nBOOKING: Please click here to book your place\nMAP\n\nFor more info
 rmation visit https://networkinginsurrey.co.uk/events/farnham-hub-talk
 -networking-morning-bordon-12
DTSTART;TZID=Europe/London:20141212T100000
DTEND;TZID=Europe/London:20141212T120000
CATEGORIES:morning, bordon
LOCATION:The Business Hub, The Country Market
WEBSITE:https://www.google.com/maps/place/Sleaford,+Bordon,+Hampshire+
 GU35+0QP,+UK/@51.1429363,-0.8491651,15z/data=!4m2!3m1!1s0x48743184c631
 3913:0xb0011eca074e0802
URL:https://www.google.com/maps/place/Sleaford,+Bordon,+Hampshire+GU35
 +0QP,+UK/@51.1429363,-0.8491651,15z/data=!4m2!3m1!1s0x48743184c6313913
 :0xb0011eca074e0802
CONTACT:02087209355
ORGANIZER;CN="Emma Selby":https://networkinginsurrey.co.uk/profile/Emm
 aSelby
ATTACH;FMTTYPE="image/jpeg":http://storage.ning.com/topology/rest/1.0/
 file/get/2591432434?profile=original
ATTENDEE;ROLE=REQ-PARTICIPANT;PARTSTAT=ACCEPTED;RSVP=TRUE;CN="Emma Sel
 by":https://networkinginsurrey.co.uk/profile/EmmaSelby
END:VEVENT
END:VCALENDAR
