BEGIN:VCALENDAR
PRODID:NingEventWidget-v1
VERSION:2.0
METHOD:PUBLISH
BEGIN:VTIMEZONE
TZID:Europe/London
X-LIC-LOCATION:Europe/London
BEGIN:DAYLIGHT
TZOFFSETFROM:+0000
TZOFFSETTO:+0100
TZNAME:BST
DTSTART:19700329T010000
RRULE:FREQ=YEARLY;BYMONTH=3;BYDAY=-1SU
END:DAYLIGHT
BEGIN:STANDARD
TZOFFSETFROM:+0100
TZOFFSETTO:+0000
TZNAME:GMT
DTSTART:19701025T020000
RRULE:FREQ=YEARLY;BYMONTH=10;BYDAY=-1SU
END:STANDARD
END:VTIMEZONE
BEGIN:VEVENT
UID:4626108:Event:69832
DTSTAMP:20260422T214553Z
SUMMARY:Farnham Hub Talk & Networking Morning, Bordon
DESCRIPTION:Supermum Start Up Coffee Morning & Awards\n\nSupermum Star
 tup Coffee Morning and Awards\nA very short presentation on what to ex
 pect from the 2015 Supermum Startup Programme. \nA chance to chat to 
 other applicants for Supermum Startup 2015, and hear from the Mums who
  are graduating today from Supermum Startup 2014!! \nA chance to meet
  the course leaders, award winning businesswomen Choe Kinch and Emma S
 elby \nCoffee, tea and cakes served!\n\nThe Country Market is on the 
 A325 opposite the LMC Garage just outside of Bordon.  Your Sat Nav ma
 y take you to a private house so please follow these directions.\nCOST
 : Free \nBOOKING: Please click here to book your place\nMAP\n\nFor m
 ore information visit https://networkinginsurrey.co.uk/events/farnham-
 hub-talk-networking-morning-bordon-10
DTSTART;TZID=Europe/London:20141208T093000
DTEND;TZID=Europe/London:20141208T120000
CATEGORIES:morning, bordon
LOCATION:The Business Hub, The Country Market
WEBSITE:https://www.google.com/maps/place/Sleaford,+Bordon,+Hampshire+
 GU35+0QP,+UK/@51.1429363,-0.8491651,15z/data=!4m2!3m1!1s0x48743184c631
 3913:0xb0011eca074e0802
URL:https://www.google.com/maps/place/Sleaford,+Bordon,+Hampshire+GU35
 +0QP,+UK/@51.1429363,-0.8491651,15z/data=!4m2!3m1!1s0x48743184c6313913
 :0xb0011eca074e0802
CONTACT:02087209355
ORGANIZER;CN="Emma Selby":https://networkinginsurrey.co.uk/profile/Emm
 aSelby
ATTACH;FMTTYPE="image/jpeg":http://storage.ning.com/topology/rest/1.0/
 file/get/2591432434?profile=original
ATTENDEE;ROLE=REQ-PARTICIPANT;PARTSTAT=ACCEPTED;RSVP=TRUE;CN="Emma Sel
 by":https://networkinginsurrey.co.uk/profile/EmmaSelby
END:VEVENT
END:VCALENDAR
