BEGIN:VCALENDAR
PRODID:NingEventWidget-v1
VERSION:2.0
METHOD:PUBLISH
BEGIN:VTIMEZONE
TZID:Europe/London
X-LIC-LOCATION:Europe/London
BEGIN:DAYLIGHT
TZOFFSETFROM:+0000
TZOFFSETTO:+0100
TZNAME:BST
DTSTART:19700329T010000
RRULE:FREQ=YEARLY;BYMONTH=3;BYDAY=-1SU
END:DAYLIGHT
BEGIN:STANDARD
TZOFFSETFROM:+0100
TZOFFSETTO:+0000
TZNAME:GMT
DTSTART:19701025T020000
RRULE:FREQ=YEARLY;BYMONTH=10;BYDAY=-1SU
END:STANDARD
END:VTIMEZONE
BEGIN:VEVENT
UID:4626108:Event:68520
DTSTAMP:20260419T212915Z
SUMMARY:Farnham Hub Talk & Networking Morning, Bordon
DESCRIPTION:Introduction to Google Plus by Emma Selby\n\nCould you be 
 using Google Plus to grow your business?\nYou may assume that not many
  people are using G + to grow their business yet – but dont make the
  mistake of dismissing it as this social platform is in the same stabl
 e as the number one and number two search engines, Google  and You Tu
 be – and that should make  you sit up and pay attention.\nUsing Goo
 gle Plus properly will definitely improve your search engine rankings 
 – and that is one very good reason to come along on Friday and learn
  the basics of how people interact on this unfamiliar platform.\nCircl
 es, Communities and Ripples -  Emma will talk about using these to gr
 ow your audience and network online. She will also introduce you to so
 me basic apps that make using G+ a whole lot easier and demonstrate an
  interactive  G+ hangout !\nFollowed by networking. Come prepared to 
 introduce your business, meet other business owners one to one, learn 
 some new stuff and enjoy yourself! Don’t forget your business cards!
 \n\n\nThe Country Market is on the A325 opposite the LMC Garage just o
 utside of Bordon.  Your Sat Nav may take you to a private house so pl
 ease follow these directions.\nCOST: Free to Members, £18 to Visitors
 \nBOOKING: Please click here to book your place\nMAP\n\nFor more info
 rmation visit https://networkinginsurrey.co.uk/events/farnham-hub-talk
 -networking-morning-bordon-1
DTSTART;TZID=Europe/London:20141003T100000
DTEND;TZID=Europe/London:20141003T120000
CATEGORIES:morning, bordon
LOCATION:The Business Hub, The Country Market
WEBSITE:https://www.google.com/maps/place/Sleaford,+Bordon,+Hampshire+
 GU35+0QP,+UK/@51.1429363,-0.8491651,15z/data=!4m2!3m1!1s0x48743184c631
 3913:0xb0011eca074e0802
URL:https://www.google.com/maps/place/Sleaford,+Bordon,+Hampshire+GU35
 +0QP,+UK/@51.1429363,-0.8491651,15z/data=!4m2!3m1!1s0x48743184c6313913
 :0xb0011eca074e0802
CONTACT:02087209355
ORGANIZER;CN="Emma Selby":https://networkinginsurrey.co.uk/profile/Emm
 aSelby
ATTACH;FMTTYPE="image/jpeg":http://storage.ning.com/topology/rest/1.0/
 file/get/2591432434?profile=original
ATTENDEE;ROLE=REQ-PARTICIPANT;PARTSTAT=ACCEPTED;RSVP=TRUE;CN="Emma Sel
 by":https://networkinginsurrey.co.uk/profile/EmmaSelby
END:VEVENT
END:VCALENDAR
