BEGIN:VCALENDAR
PRODID:NingEventWidget-v1
VERSION:2.0
METHOD:PUBLISH
BEGIN:VTIMEZONE
TZID:Europe/London
X-LIC-LOCATION:Europe/London
BEGIN:DAYLIGHT
TZOFFSETFROM:+0000
TZOFFSETTO:+0100
TZNAME:BST
DTSTART:19700329T010000
RRULE:FREQ=YEARLY;BYMONTH=3;BYDAY=-1SU
END:DAYLIGHT
BEGIN:STANDARD
TZOFFSETFROM:+0100
TZOFFSETTO:+0000
TZNAME:GMT
DTSTART:19701025T020000
RRULE:FREQ=YEARLY;BYMONTH=10;BYDAY=-1SU
END:STANDARD
END:VTIMEZONE
BEGIN:VEVENT
UID:4626108:Event:73184
DTSTAMP:20260419T205020Z
SUMMARY:FREE Farnham Hub Talk & Networking Morning, Bordon
DESCRIPTION:How to create a lead magnet - talk and workshop with Jona
 than Howkins\n\n10am - 12pm - Talk - How to create a killer lead magne
 t followed by a practical workshop where you can work on an existing p
 iece or a new idea and get feedback from the group \nThe Country Mark
 et is on the A325 opposite the LMC Garage just outside of Bordon. GU35
  0QP\nCOST: FREE FIRST WORKSHOP.  Always free to members. . £23.00 P
 AYG guests.\nFollowed by a networking lunch \nBOOKING: Please click h
 ere to book your place\nMAP\n\nFor more information visit https://net
 workinginsurrey.co.uk/events/farnham-hub-talk-networking-morning-1
DTSTART;TZID=Europe/London:20150612T100000
DTEND;TZID=Europe/London:20150612T120000
CATEGORIES:morning, bordon
LOCATION:The Farnham Business Hub, The Country Market
WEBSITE:https://www.google.com/maps/place/Sleaford,+Bordon,+Hampshire+
 GU35+0QP,+UK/@51.1429363,-0.8491651,15z/data=!4m2!3m1!1s0x48743184c631
 3913:0xb0011eca074e0802
URL:https://www.google.com/maps/place/Sleaford,+Bordon,+Hampshire+GU35
 +0QP,+UK/@51.1429363,-0.8491651,15z/data=!4m2!3m1!1s0x48743184c6313913
 :0xb0011eca074e0802
CONTACT:01252856970
ORGANIZER;CN="Emma Selby":https://networkinginsurrey.co.uk/profile/Emm
 aSelby
ATTACH;FMTTYPE="image/jpeg":http://storage.ning.com/topology/rest/1.0/
 file/get/2591442308?profile=original
ATTENDEE;ROLE=REQ-PARTICIPANT;PARTSTAT=ACCEPTED;RSVP=TRUE;CN="Emma Sel
 by":https://networkinginsurrey.co.uk/profile/EmmaSelby
END:VEVENT
END:VCALENDAR
