BEGIN:VCALENDAR
PRODID:NingEventWidget-v1
VERSION:2.0
METHOD:PUBLISH
BEGIN:VTIMEZONE
TZID:Europe/London
X-LIC-LOCATION:Europe/London
BEGIN:DAYLIGHT
TZOFFSETFROM:+0000
TZOFFSETTO:+0100
TZNAME:BST
DTSTART:19700329T010000
RRULE:FREQ=YEARLY;BYMONTH=3;BYDAY=-1SU
END:DAYLIGHT
BEGIN:STANDARD
TZOFFSETFROM:+0100
TZOFFSETTO:+0000
TZNAME:GMT
DTSTART:19701025T020000
RRULE:FREQ=YEARLY;BYMONTH=10;BYDAY=-1SU
END:STANDARD
END:VTIMEZONE
BEGIN:VEVENT
UID:4626108:Event:100954
DTSTAMP:20260422T070151Z
SUMMARY:Farnham Connections Breakfast, Seale, Farnham
DESCRIPTION:Farnham Connections at the Hogs Back Hotel, Seale\n\nOurÂ 
 FORTNIGHTLY MEETINGS areÂ run by Paul Bridgland & Steve Page, with rel
 axed, fun, friendly networking (that produces results).\nOur meetings 
 are for local business people who don't do (very) early mornings, can'
 t make a weekly commitment and don't believe in exclusivity for member
  categories.\n\nVisitors are welcome to come along and check us out tw
 o or three times with absolutely no commitment or expectation to join 
 - you'll know if it's right for you but we can guarantee you that you'
 ll receive a very warm welcome wherever you attend ... come and give u
 s a try!\nBusiness should be fun!\n\n\nCOST:Â Â£15Â including breakfas
 t - payable on-line or on the door.\nSpecial Launch Offer â€“ attend a
 nd pay your Â£15 breakfast fee at the Launch event and receive a compl
 imentary breakfast at the next two events following.\nBOOKING: PleaseÂ
  CLICK HEREÂ to book\nMAP\n\nFor more information visit https://networ
 kinginsurrey.co.uk/events/farnham-connections-breakfast-seale-farnham
DTSTART;TZID=Europe/London:20181005T080000
DTEND;TZID=Europe/London:20181005T103000
CATEGORIES:regular, business, networking, meeting
LOCATION:Hogs Back Hotel
WEBSITE:https://www.farnhamhogsbackhotel.co.uk/
URL:https://www.farnhamhogsbackhotel.co.uk/
CONTACT:07799888388
ORGANIZER;CN="Paul A Bridgland":https://networkinginsurrey.co.uk/profi
 le/PaulABridgland
ATTACH;FMTTYPE="image/jpeg":http://storage.ning.com/topology/rest/1.0/
 file/get/2591474949?profile=original
ATTENDEE;ROLE=REQ-PARTICIPANT;PARTSTAT=ACCEPTED;RSVP=TRUE;CN="Paul A B
 ridgland":https://networkinginsurrey.co.uk/profile/PaulABridgland
END:VEVENT
END:VCALENDAR
