BEGIN:VCALENDAR
PRODID:NingEventWidget-v1
VERSION:2.0
METHOD:PUBLISH
BEGIN:VTIMEZONE
TZID:Europe/London
X-LIC-LOCATION:Europe/London
BEGIN:DAYLIGHT
TZOFFSETFROM:+0000
TZOFFSETTO:+0100
TZNAME:BST
DTSTART:19700329T010000
RRULE:FREQ=YEARLY;BYMONTH=3;BYDAY=-1SU
END:DAYLIGHT
BEGIN:STANDARD
TZOFFSETFROM:+0100
TZOFFSETTO:+0000
TZNAME:GMT
DTSTART:19701025T020000
RRULE:FREQ=YEARLY;BYMONTH=10;BYDAY=-1SU
END:STANDARD
END:VTIMEZONE
BEGIN:VEVENT
UID:4626108:Event:421432
DTSTAMP:20260421T131211Z
SUMMARY:Farnham Connections Breakfast, Seale, Farnham
DESCRIPTION:Farnham Connections at the Hogs Back Hotel, Seale\r\n\r\nW
 ith the help of our lovely venues, we're actually back to 'Covid-safe'
  physical meetings again!\r\nSafety measures mean we can only cater fo
 r very limited numbers, so for the time being we can only accommodate 
 our Connect Surrey Members - sorry! We'll keep you posted... Any quest
 ions, please call Paul Bridgland on 07799 888388\r\nOur Leatherhead 
 meetings are run by Paul Bridgland &  Tony Chant - Business should
  be fun! \r\n\r\nCOST: £15 including breakfast - payable on-line o
 r on the door.\r\nBOOKING: Please CLICK HERE to book\r\nMAP\n\nFor m
 ore information visit https://networkinginsurrey.co.uk/events/farnham-
 connections-breakfast-seale-farnham-926
DTSTART;TZID=Europe/London:20201016T080000
DTEND;TZID=Europe/London:20201016T103000
CATEGORIES:regular, business, networking, meeting
LOCATION:Hogs Back Hotel
WEBSITE:https://www.farnhamhogsbackhotel.co.uk/
URL:https://www.farnhamhogsbackhotel.co.uk/
CONTACT:07799888388
ORGANIZER;CN="Paul A Bridgland":https://networkinginsurrey.co.uk/profi
 le/PaulABridgland
ATTACH;FMTTYPE="image/jpeg":https://storage.ning.com/topology/rest/1.0
 /file/get/8015296888?profile=original
ATTENDEE;ROLE=REQ-PARTICIPANT;PARTSTAT=ACCEPTED;RSVP=TRUE;CN="Paul A B
 ridgland":https://networkinginsurrey.co.uk/profile/PaulABridgland
END:VEVENT
END:VCALENDAR
