BEGIN:VCALENDAR
PRODID:NingEventWidget-v1
VERSION:2.0
METHOD:PUBLISH
BEGIN:VTIMEZONE
TZID:Europe/London
X-LIC-LOCATION:Europe/London
BEGIN:DAYLIGHT
TZOFFSETFROM:+0000
TZOFFSETTO:+0100
TZNAME:BST
DTSTART:19700329T010000
RRULE:FREQ=YEARLY;BYMONTH=3;BYDAY=-1SU
END:DAYLIGHT
BEGIN:STANDARD
TZOFFSETFROM:+0100
TZOFFSETTO:+0000
TZNAME:GMT
DTSTART:19701025T020000
RRULE:FREQ=YEARLY;BYMONTH=10;BYDAY=-1SU
END:STANDARD
END:VTIMEZONE
BEGIN:VEVENT
UID:4626108:Event:86727
DTSTAMP:20260424T143542Z
SUMMARY:Farnham Business Hub Morning
DESCRIPTION:Farnham Business Hub MorningÂ at Farnham Rugby Football Cl
 ub\n\n\nThe 60 minute MBA\nYouâ€™ve heard of the 60 minute Shakespeare
  â€“ the complete works of Shakespeare performed in a highly abridged 
 60 minutes. This is our version with our very own MBA lecturer Peter M
 esservy.\nPeter has over 30 years of building businesses and has taugh
 t MBAs at many Universities internationally, including Columbia (NY).Â
  His major clients have included Xerox, Michelin and Fed X to name but
  a few.\n\nThis fabulous and original talk designed with and for the F
 arnham Hub is a distillation of all Peterâ€™s business teaching and bu
 ilding experience into a fun filled 60 minute experience.\nSo if youâ€
 ™ve ever wished you had an MBA, boasted that you could easily get one 
 or just would like to know what you missedâ€¦â€¦ join us.\nCOST: Your 
 first visit to the hub is FREE.\nBOOKING: Please CLICK HEREÂ toÂ book 
 your place\nMAP\n\nFor more information visit https://networkinginsurr
 ey.co.uk/events/farnham-business-hub-morning-9
DTSTART;TZID=Europe/London:20170310T100000
DTEND;TZID=Europe/London:20170310T120000
CATEGORIES:networking, breafast, farnham
LOCATION:The Business Hub, Farnham Rugby Football Club, Farnham
WEBSITE:https://www.google.com/maps/place/Castle+St,+Farnham+GU9+7HR,+
 UK/@51.2155015,-0.8020584,17z/data=!3m1!4b1!4m5!3m4!1s0x48742daba4d05d
 e1:0x829d39e11ece70f!8m2!3d51.215467!4d-0.7997219
URL:https://www.google.com/maps/place/Castle+St,+Farnham+GU9+7HR,+UK/@
 51.2155015,-0.8020584,17z/data=!3m1!4b1!4m5!3m4!1s0x48742daba4d05de1:0
 x829d39e11ece70f!8m2!3d51.215467!4d-0.7997219
CONTACT:
ORGANIZER;CN="Emma Selby":https://networkinginsurrey.co.uk/profile/Emm
 aSelby
ATTACH;FMTTYPE="image/jpeg":http://storage.ning.com/topology/rest/1.0/
 file/get/2591442308?profile=original
ATTENDEE;ROLE=REQ-PARTICIPANT;PARTSTAT=ACCEPTED;RSVP=TRUE;CN="Emma Sel
 by":https://networkinginsurrey.co.uk/profile/EmmaSelby
END:VEVENT
END:VCALENDAR
