BEGIN:VCALENDAR
PRODID:NingEventWidget-v1
VERSION:2.0
METHOD:PUBLISH
BEGIN:VTIMEZONE
TZID:Europe/London
X-LIC-LOCATION:Europe/London
BEGIN:DAYLIGHT
TZOFFSETFROM:+0000
TZOFFSETTO:+0100
TZNAME:BST
DTSTART:19700329T010000
RRULE:FREQ=YEARLY;BYMONTH=3;BYDAY=-1SU
END:DAYLIGHT
BEGIN:STANDARD
TZOFFSETFROM:+0100
TZOFFSETTO:+0000
TZNAME:GMT
DTSTART:19701025T020000
RRULE:FREQ=YEARLY;BYMONTH=10;BYDAY=-1SU
END:STANDARD
END:VTIMEZONE
BEGIN:VEVENT
UID:4626108:Event:87951
DTSTAMP:20260424T113439Z
SUMMARY:Farnham Business Hub Morning
DESCRIPTION:Farnham Business Hub Morning at Pizza Express\n\nBecoming
  Resilient with Julian Jaffe\nAre you tough enough? Will you be able t
 o bounce back when the next blow comes?\nBlows can be easily caused by
  distractions, bad judgement calls, wrong turns or outside events. The
  only thing we know for sure is that they will come and they will hurt
 . But business owners like us can cultivate resilience in order to sur
 vive these events, learn from them and grow stronger each time.\nIn th
 is first of three 60 minute workshops Julian will show us how to use t
 he business vision as a means of building resilience into overall busi
 ness strategy. He'll be looking at mindmapping and mind modelling and 
 demonstrating how to create a reliable visual reference for our busine
 ss strategy. This reliable visual reference keeps us on track when adv
 erse changes occur and makes us more likely to survive and thrive.\n\n
 You will have a chance to revisit (or create) your business vision and
  learn some easy techniques to create a clear business strategy that i
 s easy to follow. You will build on to that a clear visual guide that 
 will help you make the right decisions first time around but also help
  you get the business back on track quickly if you do move off course.
 \nRecommended for business owners that have got their business up and 
 running but still feel vunerable and in need of clearer direction.\nRe
 commended for anyone at a crossroads in the business and not sure wher
 e to head next\n\n\n\n\nCOST: Your first visit to the hub is FREE.\nBO
 OKING: Please CLICK HERE to book your place\nMAP\n\nFor more informa
 tion visit https://networkinginsurrey.co.uk/events/farnham-business-hu
 b-morning-15
DTSTART;TZID=Europe/London:20170421T100000
DTEND;TZID=Europe/London:20170421T130000
CATEGORIES:networking, breafast, farnham
LOCATION:Pizza Express, Farnham
WEBSITE:https://www.google.co.uk/maps/place/Castle+St,+Farnham+GU9+7LS
 /@51.2156474,-0.8012312,17z/data=!3m1!4b1!4m5!3m4!1s0x48742dabadd6df91
 :0xa27cf8fdd5b7a4ca!8m2!3d51.2155048!4d-0.7990194?hl=en
URL:https://www.google.co.uk/maps/place/Castle+St,+Farnham+GU9+7LS/@51
 .2156474,-0.8012312,17z/data=!3m1!4b1!4m5!3m4!1s0x48742dabadd6df91:0xa
 27cf8fdd5b7a4ca!8m2!3d51.2155048!4d-0.7990194?hl=en
CONTACT:
ORGANIZER;CN="Emma Selby":https://networkinginsurrey.co.uk/profile/Emm
 aSelby
ATTACH;FMTTYPE="image/jpeg":http://storage.ning.com/topology/rest/1.0/
 file/get/2591442308?profile=original
ATTENDEE;ROLE=REQ-PARTICIPANT;PARTSTAT=ACCEPTED;RSVP=TRUE;CN="Emma Sel
 by":https://networkinginsurrey.co.uk/profile/EmmaSelby
END:VEVENT
END:VCALENDAR
