BEGIN:VCALENDAR
PRODID:NingEventWidget-v1
VERSION:2.0
METHOD:PUBLISH
BEGIN:VTIMEZONE
TZID:Europe/London
X-LIC-LOCATION:Europe/London
BEGIN:DAYLIGHT
TZOFFSETFROM:+0000
TZOFFSETTO:+0100
TZNAME:BST
DTSTART:19700329T010000
RRULE:FREQ=YEARLY;BYMONTH=3;BYDAY=-1SU
END:DAYLIGHT
BEGIN:STANDARD
TZOFFSETFROM:+0100
TZOFFSETTO:+0000
TZNAME:GMT
DTSTART:19701025T020000
RRULE:FREQ=YEARLY;BYMONTH=10;BYDAY=-1SU
END:STANDARD
END:VTIMEZONE
BEGIN:VEVENT
UID:4626108:Event:86908
DTSTAMP:20260424T080547Z
SUMMARY:Farnham Business Hub Morning
DESCRIPTION:Farnham Business Hub Morning at Farnham Rugby Football Cl
 ub\n\nGetting stuff done - Workshop\nFeeling like your head is a bit s
 crambled with all that incredible business stuff you’ve learned?\nLe
 arning is essential in business but it’s really important to take st
 ock and make sure you are taking the time to consolidate your learning
  and make things happen in the business.\nHaving talked to lots of Hub
  members and small business owners I know that the sense of overwhel
 m is really common. So, with this in mind, we’re going to spend more
  of our Hub time in 2017 ensuring that you are learning good stuff but
  also making the time to put everything you’ve learned to good use.
 \n\nAttempt Less. Achieve More.\nI think there is a lot of truth in t
 he saying “The final 10% of a task takes as much energy as the first
  90%”\nJoin us for this Hub session and let us focus our energy help
 ing you get that final 10% completed.\nThis is a practical workshop wh
 ere you can learn how to structure your workload.  We’ll be talking
  about ‘batching’ tasks and other productivity ideas and tips.  T
 here will be an opportunity to create individual task plans and inject
  a little bit of that all-important accountability.  So come along t
 o the workshop to make 2017 the year that you take the #nextsteps.\nCO
 ST: Your first visit to the hub is FREE.\nBOOKING: Please CLICK HERE 
 to book your place\nMAP\n\nFor more information visit https://network
 inginsurrey.co.uk/events/farnham-business-hub-morning-11
DTSTART;TZID=Europe/London:20170331T100000
DTEND;TZID=Europe/London:20170331T120000
CATEGORIES:networking, breafast, farnham
LOCATION:The Business Hub, Farnham Rugby Football Club, Farnham
WEBSITE:https://www.google.com/maps/place/Castle+St,+Farnham+GU9+7HR,+
 UK/@51.2155015,-0.8020584,17z/data=!3m1!4b1!4m5!3m4!1s0x48742daba4d05d
 e1:0x829d39e11ece70f!8m2!3d51.215467!4d-0.7997219
URL:https://www.google.com/maps/place/Castle+St,+Farnham+GU9+7HR,+UK/@
 51.2155015,-0.8020584,17z/data=!3m1!4b1!4m5!3m4!1s0x48742daba4d05de1:0
 x829d39e11ece70f!8m2!3d51.215467!4d-0.7997219
CONTACT:
ORGANIZER;CN="Emma Selby":https://networkinginsurrey.co.uk/profile/Emm
 aSelby
ATTACH;FMTTYPE="image/jpeg":http://storage.ning.com/topology/rest/1.0/
 file/get/2591442308?profile=original
ATTENDEE;ROLE=REQ-PARTICIPANT;PARTSTAT=ACCEPTED;RSVP=TRUE;CN="Emma Sel
 by":https://networkinginsurrey.co.uk/profile/EmmaSelby
END:VEVENT
END:VCALENDAR
