BEGIN:VCALENDAR
PRODID:NingEventWidget-v1
VERSION:2.0
METHOD:PUBLISH
BEGIN:VTIMEZONE
TZID:Europe/London
X-LIC-LOCATION:Europe/London
BEGIN:DAYLIGHT
TZOFFSETFROM:+0000
TZOFFSETTO:+0100
TZNAME:BST
DTSTART:19700329T010000
RRULE:FREQ=YEARLY;BYMONTH=3;BYDAY=-1SU
END:DAYLIGHT
BEGIN:STANDARD
TZOFFSETFROM:+0100
TZOFFSETTO:+0000
TZNAME:GMT
DTSTART:19701025T020000
RRULE:FREQ=YEARLY;BYMONTH=10;BYDAY=-1SU
END:STANDARD
END:VTIMEZONE
BEGIN:VEVENT
UID:4626108:Event:86729
DTSTAMP:20260424T115711Z
SUMMARY:Farnham Business Hub Morning
DESCRIPTION:Farnham Business Hub Morning at Farnham Rugby Football Cl
 ub\n\n\nHow to write a sales letter that really works\nUsually, when w
 e think of direct mail as a form of marketing we might picture unopene
 d letters sitting in a pile on someone’s desk waiting to be thrown u
 nceremoniously into a bin.  So, why does the Farnham Hub think that d
 irect mail can be a viable marketing method?\nBecause, we know Vanessa
  Lanham-Day.  Vanessa is the notorious ‘Butt-kicker’, marketing i
 nspirer, mentor and coach.  Vanessa has been a business owner for 26 
 years, with her inspirational marketing business OnTrack Marketing. S
 he has the habit of getting results by sheer determination, passion an
 d her absolute enthusiasm for helping business owners achieve their po
 tential.\n\n\nVanessa has an insightful and analytical business mind a
 nd she is all about finding ways to ‘make it happen’ for your busi
 ness. She’s energetic, direct, open and honest – and likes to say 
 it like it is.\nOn Friday 17th March, Vanessa will be hosting a Sales-
 Letter Masterclass at The Farnham Hub, teaching us how to use her uniq
 ue technique to ensure our sales letters are not only, opened but read
  by the ‘decision maker’ and how to get at least a 50% response ra
 te using the art of reciprocation.\nThis is definitely not one to miss
 !\nCOST: Your first visit to the hub is FREE.\nBOOKING: Please CLICK H
 ERE to book your place\nMAP\n\nFor more information visit https://ne
 tworkinginsurrey.co.uk/events/farnham-business-hub-morning-10
DTSTART;TZID=Europe/London:20170317T100000
DTEND;TZID=Europe/London:20170317T120000
CATEGORIES:networking, breafast, farnham
LOCATION:The Business Hub, Farnham Rugby Football Club, Farnham
WEBSITE:https://www.google.com/maps/place/Castle+St,+Farnham+GU9+7HR,+
 UK/@51.2155015,-0.8020584,17z/data=!3m1!4b1!4m5!3m4!1s0x48742daba4d05d
 e1:0x829d39e11ece70f!8m2!3d51.215467!4d-0.7997219
URL:https://www.google.com/maps/place/Castle+St,+Farnham+GU9+7HR,+UK/@
 51.2155015,-0.8020584,17z/data=!3m1!4b1!4m5!3m4!1s0x48742daba4d05de1:0
 x829d39e11ece70f!8m2!3d51.215467!4d-0.7997219
CONTACT:
ORGANIZER;CN="Emma Selby":https://networkinginsurrey.co.uk/profile/Emm
 aSelby
ATTACH;FMTTYPE="image/jpeg":http://storage.ning.com/topology/rest/1.0/
 file/get/2591442308?profile=original
ATTENDEE;ROLE=REQ-PARTICIPANT;PARTSTAT=ACCEPTED;RSVP=TRUE;CN="Emma Sel
 by":https://networkinginsurrey.co.uk/profile/EmmaSelby
END:VEVENT
END:VCALENDAR
