BEGIN:VCALENDAR
PRODID:NingEventWidget-v1
VERSION:2.0
METHOD:PUBLISH
BEGIN:VTIMEZONE
TZID:Europe/London
X-LIC-LOCATION:Europe/London
BEGIN:DAYLIGHT
TZOFFSETFROM:+0000
TZOFFSETTO:+0100
TZNAME:BST
DTSTART:19700329T010000
RRULE:FREQ=YEARLY;BYMONTH=3;BYDAY=-1SU
END:DAYLIGHT
BEGIN:STANDARD
TZOFFSETFROM:+0100
TZOFFSETTO:+0000
TZNAME:GMT
DTSTART:19701025T020000
RRULE:FREQ=YEARLY;BYMONTH=10;BYDAY=-1SU
END:STANDARD
END:VTIMEZONE
BEGIN:VEVENT
UID:4626108:Event:69279
DTSTAMP:20260419T175857Z
SUMMARY:Farnborough Business Connections Breakfast, Farnborough
DESCRIPTION:Farnborough Business Connections\n\nCome and join us on W
 ednesday 12th November at 8.30am for some delicious breakfast and make
  local business connections at Southwood Pavillion, Farnborough - a gr
 eat place to network with other local business people!\nVisit our web
 site here...\n\nOur breakfast networking event is founded by thebestof
  Aldershot and Farnborough, Branston Adams Chartered Accountants, Seen
  2 Help and Creative Caterers Company.\nOur guest speaker this month i
 s Jane Buswell who will be talking to you about social media - a topic
  we have been asked to cover so hopefully you'll find this very useful
 .\nFor more information please give us a call on 01252 217101.\nCOST: 
 Tickets are just £10\nBOOKING: Please CLICK HERE to book your place\
 nMAP\n\nFor more information visit https://networkinginsurrey.co.uk/ev
 ents/farnborough-business-connections-breakfast-farnborough-2
DTSTART;TZID=Europe/London:20141112T083000
DTEND;TZID=Europe/London:20141112T103000
CATEGORIES:networking
LOCATION:Southwood Pavillion, Grasmere Road, Farnborough, GU14 OLE
WEBSITE:http://www.farnboroughbusinessconnections.co.uk/
URL:http://www.farnboroughbusinessconnections.co.uk/
CONTACT:01252 217101
ORGANIZER;CN="Carly Baker":https://networkinginsurrey.co.uk/profile/Ca
 rlyBaker
ATTACH;FMTTYPE="image/jpeg":http://storage.ning.com/topology/rest/1.0/
 file/get/2591436080?profile=original
ATTENDEE;ROLE=REQ-PARTICIPANT;PARTSTAT=ACCEPTED;RSVP=TRUE;CN="Carly Ba
 ker":https://networkinginsurrey.co.uk/profile/CarlyBaker
END:VEVENT
END:VCALENDAR
