BEGIN:VCALENDAR
PRODID:NingEventWidget-v1
VERSION:2.0
METHOD:PUBLISH
BEGIN:VTIMEZONE
TZID:Europe/London
X-LIC-LOCATION:Europe/London
BEGIN:DAYLIGHT
TZOFFSETFROM:+0000
TZOFFSETTO:+0100
TZNAME:BST
DTSTART:19700329T010000
RRULE:FREQ=YEARLY;BYMONTH=3;BYDAY=-1SU
END:DAYLIGHT
BEGIN:STANDARD
TZOFFSETFROM:+0100
TZOFFSETTO:+0000
TZNAME:GMT
DTSTART:19701025T020000
RRULE:FREQ=YEARLY;BYMONTH=10;BYDAY=-1SU
END:STANDARD
END:VTIMEZONE
BEGIN:VEVENT
UID:4626108:Event:68486
DTSTAMP:20260421T133813Z
SUMMARY:Farnborough Business Connections Breakfast, Farnborough
DESCRIPTION:Farnborough Business Connections\n\nCome and join us for 
 a new networking group on Wednesday 8th October at 8.30am for some del
 icious breakfast and make local business connections at Southwood Pavi
 llion, Farnborough - a great place to network with other local busine
 ss people!\nhttp://www.farnboroughbusinessconnections.co.uk/\nOur brea
 kfast networking event is founded by thebestof Aldershot and Farnborou
 gh, Branston Adams Chartered Accountants, Seen 2 Help and Creative Cat
 erers Company.\nOur guest speaker this month is Stuart Morrison who wi
 ll bring you to life with a little bit of comedy on your Wednesday mor
 ning!\nFor more information please give us a call on 01252 217101.\nCO
 ST: Tickets are just £10\nBOOKING: Please CLICK HERE to book your pl
 ace\nMAP\n\nFor more information visit https://networkinginsurrey.co.u
 k/events/farnborough-business-connections-breakfast-farnborough-1
DTSTART;TZID=Europe/London:20141008T083000
DTEND;TZID=Europe/London:20141008T103000
CATEGORIES:networking
LOCATION:Southwood Pavillion, Grasmere Road, Farnborough, GU14 OLE
WEBSITE:http://www.farnboroughbusinessconnections.co.uk/
URL:http://www.farnboroughbusinessconnections.co.uk/
CONTACT:01252 217101
ORGANIZER;CN="Carly Baker":https://networkinginsurrey.co.uk/profile/Ca
 rlyBaker
ATTACH;FMTTYPE="image/jpeg":http://storage.ning.com/topology/rest/1.0/
 file/get/2591435877?profile=original
ATTENDEE;ROLE=REQ-PARTICIPANT;PARTSTAT=ACCEPTED;RSVP=TRUE;CN="Carly Ba
 ker":https://networkinginsurrey.co.uk/profile/CarlyBaker
END:VEVENT
END:VCALENDAR
