BEGIN:VCALENDAR
PRODID:NingEventWidget-v1
VERSION:2.0
METHOD:PUBLISH
BEGIN:VTIMEZONE
TZID:Europe/London
X-LIC-LOCATION:Europe/London
BEGIN:DAYLIGHT
TZOFFSETFROM:+0000
TZOFFSETTO:+0100
TZNAME:BST
DTSTART:19700329T010000
RRULE:FREQ=YEARLY;BYMONTH=3;BYDAY=-1SU
END:DAYLIGHT
BEGIN:STANDARD
TZOFFSETFROM:+0100
TZOFFSETTO:+0000
TZNAME:GMT
DTSTART:19701025T020000
RRULE:FREQ=YEARLY;BYMONTH=10;BYDAY=-1SU
END:STANDARD
END:VTIMEZONE
BEGIN:VEVENT
UID:4626108:Event:75201
DTSTAMP:20260426T043937Z
SUMMARY:Fabulous Women Late Breakfast, Walton/Weybridge
DESCRIPTION:Fabulous Women at The Oatlands Chaser\n\nHi, I'm Jo, the 
 group leader for the Walton/Weybridge Fabulous Women group. I look fo
 rward to welcoming you!\nI am the speaker this month on Empower You
 rself with Egyptian Alchemy. \n*Talk Summary: Fascinated by Egypt? F
 eeling lethargic? Enjoy a taster of what Ancient Egyptian philosophies
  can do for you with this interactive presentation. Come with an open 
 mind! There will be a healing demonstration, if time.\nSee Fabulous W
 omen event link below for biography details.\n **********************
 **\n\nIf you have been wondering what benefits you will receive from b
 eing part of this fabulous organisation, let me share with you just a 
 few reasons why coming to a Fabulous Women Netwinning meeting will b
 e the best business decision you ever made: \n- Make new friends\n- Fi
 nd customers, suppliers and collaborators\n- Be inspired\n- Learn new 
 skills\n\n- Our Agenda is the best mix between formal and informal net
 working - perfect for the new, as well as the more experienced network
 er\n\n- Inspiring speakers; a 'Hot Seat' or Mini-Coaching session; and
  1-2-1's with a 'twist' where we all work out ways in which we can pot
 entially collaborate or support each other, even if it's simply by fol
 lowing each other on Twitter etc.\n\n- The chance to make a one minute
  business pitch about who you are, what you do and who you do it for a
 nd how we can help you. (Do not worry about this if you are a little n
 ervous, you can type it out and read it if you wish! We do not judge, 
 we just want to help you)\n\n- Women do business with men too, and Fab
 ulous Women welcomes Marvellous Men who are happy to network in our st
 yle. This means collaboration not competition, and support not sell an
 d we know that you are interested in both personal and business develo
 pment\n\n- You don't need to be a member to attend a Fabulous Women Ne
 twinning meeting. You can attend up to three meetings as a guest\nWith
  all these benefits to being a part of the Fabulous Women experience, 
 how can you resist?!\nPlease register to attend (see BOOKING below) an
 d just pay on the door on arrival.\nRemember to bring your business ca
 rds and marketing material and, if you sell products, bring some sampl
 es for us to see.\nCOST: £10 for Guests and FW Members (cash only
  please, on arrival!)\nBOOKING: Please CLICK HERE to visit our webs
 ite then click on the pink \"I'm Attending\" button at the bottom of 
 the detailed event listing to register\nMAP\nAmple free parking\n-----
 ----------------------------\nFind other local Fabulous Women events 
 here on Networking in Surrey...\n\n\nFor more information visit https
 ://networkinginsurrey.co.uk/events/fabulous-women-walton-weybridge
DTSTART;TZID=Europe/London:20151009T093000
DTEND;TZID=Europe/London:20151009T113000
CATEGORIES:fabulous_women, walton, weybridge, morning, breakfast
LOCATION:The Oatlands Chaser, KT13 9RW
WEBSITE:https://www.google.co.uk/maps/place/The+Oatlands+Chaser/@51.37
 53155,-0.4285445,17z/data=!4m2!3m1!1s0x0000000000000000:0x332b7d5bfd6f
 011f?hl=en
URL:https://www.google.co.uk/maps/place/The+Oatlands+Chaser/@51.375315
 5,-0.4285445,17z/data=!4m2!3m1!1s0x0000000000000000:0x332b7d5bfd6f011f
 ?hl=en
CONTACT:07930 414525
ORGANIZER;CN="Joanna Bristow-Watkins":https://networkinginsurrey.co.uk
 /profile/JoannaBristowWatkins
ATTACH;FMTTYPE="image/jpeg":http://storage.ning.com/topology/rest/1.0/
 file/get/2591448642?profile=original
ATTENDEE;ROLE=REQ-PARTICIPANT;PARTSTAT=ACCEPTED;RSVP=TRUE;CN="Joanna B
 ristow-Watkins":https://networkinginsurrey.co.uk/profile/JoannaBristow
 Watkins
END:VEVENT
END:VCALENDAR
