BEGIN:VCALENDAR
PRODID:NingEventWidget-v1
VERSION:2.0
METHOD:PUBLISH
BEGIN:VTIMEZONE
TZID:Europe/London
X-LIC-LOCATION:Europe/London
BEGIN:DAYLIGHT
TZOFFSETFROM:+0000
TZOFFSETTO:+0100
TZNAME:BST
DTSTART:19700329T010000
RRULE:FREQ=YEARLY;BYMONTH=3;BYDAY=-1SU
END:DAYLIGHT
BEGIN:STANDARD
TZOFFSETFROM:+0100
TZOFFSETTO:+0000
TZNAME:GMT
DTSTART:19701025T020000
RRULE:FREQ=YEARLY;BYMONTH=10;BYDAY=-1SU
END:STANDARD
END:VTIMEZONE
BEGIN:VEVENT
UID:4626108:Event:69267
DTSTAMP:20260421T010729Z
SUMMARY:Fabulous Women Late Breakfast, Sutton
DESCRIPTION:Fabulous Women Late Breakfast at The Plough\n\nHello ladie
 s and gentlemen,\nI am Tina the group leader for the Sutton Fabulous W
 omen group. I look forward to welcoming you!  Our speaker this month i
 s Karen Bashford from the Money Goddess. She will be speaking about Ti
 me Management.  If you have been wondering what benefits you will rece
 ive from being part of this fabulous organisation, let me share with y
 ou just a few reasons why coming to a Fabulous Women Netwinning meetin
 g will be the best business decision you ever made:\n\nMake new friend
 s\nFind customers, suppliers and collaborators\nBe inspired\nLearn new
  skills\n\n- Our Agenda is the best mix between formal and informal ne
 tworking - perfect for the new, as well as the more experienced networ
 ker  - Inspiring speakers; a 'Hot Seat' or Mini-Coaching session; and 
 1-2-1's with a 'twist' where we all work out ways in which we can pote
 ntially collaborate or support each other, even if it's simply by foll
 owing each other on Twitter etc.  - The chance to make a one minute bu
 siness pitch about who you are, what you do and who you do it for and 
 how we can help you. (Do not worry about this if you are a little nerv
 ous, you can type it out and read it if you wish! We do not judge, we 
 just want to help you)\n- Women do business with men too, and Fabulous
  Women welcomes Marvellous Men who are happy to network in our style. 
 This means collaboration not competition, and support not sell and we 
 know that you are interested in both personal and business development
 \n- You don't need to be a member to attend a Fabulous Women Netwinnin
 g meeting. You can attend up to three meetings as a guest\nWith all th
 ese benefits to being a part of the Fabulous Women experience, how can
  you resist?!   Remember to bring your business cards and marketing m
 aterial and, if you sell products, bring some samples for us to see.\n
 Obviously, please contact me if you have ANY queries or concerns.Tina@
 fabulous-women.co.uk\nCOST: £15 for Guests and £10 for FW members 
 (cash only please!)\nBOOKING: Please CLICK HERE to visit our website 
 then click on the blue \"Yes I'm Attending\" button on the right\nMAP
 \n\nFor more information visit https://networkinginsurrey.co.uk/events
 /fabulous-women-sutton
DTSTART;TZID=Europe/London:20141125T100000
DTEND;TZID=Europe/London:20141125T120000
CATEGORIES:networking
LOCATION:Plough Harvester
WEBSITE:http://www.fabulous-women.co.uk/meetings-events/viewevent/1302
 -sutton?groupid=30
URL:http://www.fabulous-women.co.uk/meetings-events/viewevent/1302-sut
 ton?groupid=30
CONTACT:07768 197507
ORGANIZER:Tina Hughes
ATTACH;FMTTYPE="image/jpeg":http://storage.ning.com/topology/rest/1.0/
 file/get/2591436128?profile=original
ATTENDEE;ROLE=REQ-PARTICIPANT;PARTSTAT=ACCEPTED;RSVP=TRUE;CN="Jane Har
 dy":https://networkinginsurrey.co.uk/profile/JaneHardy
END:VEVENT
END:VCALENDAR
